BEGIN:VCALENDAR
VERSION:2.0
PRODID:-//Galicia.info - ECPv6.15.20//NONSGML v1.0//EN
CALSCALE:GREGORIAN
METHOD:PUBLISH
X-ORIGINAL-URL:https://galicia.info
X-WR-CALDESC:Eventos para Galicia.info
REFRESH-INTERVAL;VALUE=DURATION:PT1H
X-Robots-Tag:noindex
X-PUBLISHED-TTL:PT1H
BEGIN:VTIMEZONE
TZID:Europe/Paris
BEGIN:DAYLIGHT
TZOFFSETFROM:+0100
TZOFFSETTO:+0200
TZNAME:CEST
DTSTART:20250330T010000
END:DAYLIGHT
BEGIN:STANDARD
TZOFFSETFROM:+0200
TZOFFSETTO:+0100
TZNAME:CET
DTSTART:20251026T010000
END:STANDARD
BEGIN:DAYLIGHT
TZOFFSETFROM:+0100
TZOFFSETTO:+0200
TZNAME:CEST
DTSTART:20260329T010000
END:DAYLIGHT
BEGIN:STANDARD
TZOFFSETFROM:+0200
TZOFFSETTO:+0100
TZNAME:CET
DTSTART:20261025T010000
END:STANDARD
BEGIN:DAYLIGHT
TZOFFSETFROM:+0100
TZOFFSETTO:+0200
TZNAME:CEST
DTSTART:20270328T010000
END:DAYLIGHT
BEGIN:STANDARD
TZOFFSETFROM:+0200
TZOFFSETTO:+0100
TZNAME:CET
DTSTART:20271031T010000
END:STANDARD
END:VTIMEZONE
BEGIN:VEVENT
DTSTART;TZID=Europe/Paris:20261016T210000
DTEND;TZID=Europe/Paris:20261016T230000
DTSTAMP:20260424T152305
CREATED:20260408T085634Z
LAST-MODIFIED:20260408T085634Z
UID:16317-1792184400-1792191600@galicia.info
SUMMARY:40 años de música en La Guardia-RUTA 40
DESCRIPTION:40 años de música en La Guardia-RUTA 40\nEl La Guardia-RUTA 40 concierto Vigo 16 de octubre 2026 llega al Teatro Afundación Vigo a las 21:00 horas. La banda granadina celebra 40 años de carrera y recorre España con un espectáculo que reúne sus mayores éxitos y momentos más emblemáticos. Liderados por Manuel España\, La Guardia ofrece un directo lleno de energía y calidad musical\, recordando por qué su música ha marcado a varias generaciones. \n\nGrandes éxitos del pop-rock español\nDurante el La Guardia-RUTA 40 concierto Vigo 16 de octubre 2026\, los asistentes podrán disfrutar de canciones que se han convertido en himnos del pop-rock español: “El Mundo tras el cristal”\, “Mil Calles llevan hacia ti”\, “Cuando brille el sol”\, “La Carretera”\, “Vámonos” o “Te seguiré”\, entre muchas otras. Cada tema es interpretado con la pasión y profesionalidad que caracteriza a la banda granadina\, garantizando una experiencia musical inolvidable. \n\nUna experiencia para todos los públicos\nEl concierto combina nostalgia y diversión\, invitando tanto a seguidores de toda la vida como a nuevas generaciones a vivir la historia de La Guardia. El La Guardia-RUTA 40 concierto Vigo 16 de octubre 2026 es una oportunidad única para disfrutar de una noche de música en directo\, con un espectáculo que recorre las décadas y demuestra la vigencia de la banda. \n\nInformación práctica del evento\n\nLugar: Teatro Afundación\, Vigo\nFecha: 16 de octubre 2026\nHora de inicio: 21:00 horas\nHora de finalización: 23:00 horas aprox.\nEntradas: Desde 30\,80 €\nEdad recomendada: Todos los públicos\n\n\nUn homenaje a la historia musical de España\nLa Guardia-RUTA 40 no es solo un concierto; es un homenaje a la trayectoria de la banda y a la música que forma parte de nuestra memoria colectiva. Cada canción transporta al público a momentos únicos y revive la esencia del pop-rock español\, consolidando a La Guardia como un referente imprescindible de la música nacional.
URL:https://galicia.info/event/40-anos-de-musica-en-la-guardia-ruta-40/
CATEGORIES:EventosRiasBaixas,EventosVigo
ATTACH;FMTTYPE=image/avif:https://galicia.info/wp-content/uploads/2026/04/public-39.avif
END:VEVENT
END:VCALENDAR