BEGIN:VCALENDAR
VERSION:2.0
PRODID:-//Galicia.info - ECPv6.15.20//NONSGML v1.0//EN
CALSCALE:GREGORIAN
METHOD:PUBLISH
X-WR-CALNAME:Galicia.info
X-ORIGINAL-URL:https://galicia.info
X-WR-CALDESC:Eventos para Galicia.info
REFRESH-INTERVAL;VALUE=DURATION:PT1H
X-Robots-Tag:noindex
X-PUBLISHED-TTL:PT1H
BEGIN:VTIMEZONE
TZID:Europe/Paris
BEGIN:DAYLIGHT
TZOFFSETFROM:+0100
TZOFFSETTO:+0200
TZNAME:CEST
DTSTART:20250330T010000
END:DAYLIGHT
BEGIN:STANDARD
TZOFFSETFROM:+0200
TZOFFSETTO:+0100
TZNAME:CET
DTSTART:20251026T010000
END:STANDARD
BEGIN:DAYLIGHT
TZOFFSETFROM:+0100
TZOFFSETTO:+0200
TZNAME:CEST
DTSTART:20260329T010000
END:DAYLIGHT
BEGIN:STANDARD
TZOFFSETFROM:+0200
TZOFFSETTO:+0100
TZNAME:CET
DTSTART:20261025T010000
END:STANDARD
BEGIN:DAYLIGHT
TZOFFSETFROM:+0100
TZOFFSETTO:+0200
TZNAME:CEST
DTSTART:20270328T010000
END:DAYLIGHT
BEGIN:STANDARD
TZOFFSETFROM:+0200
TZOFFSETTO:+0100
TZNAME:CET
DTSTART:20271031T010000
END:STANDARD
END:VTIMEZONE
BEGIN:VEVENT
DTSTART;TZID=Europe/Paris:20260730T220000
DTEND;TZID=Europe/Paris:20260730T220000
DTSTAMP:20260424T121323
CREATED:20260406T102516Z
LAST-MODIFIED:20260406T103726Z
UID:16121-1785448800-1785448800@galicia.info
SUMMARY:Chayanne concierto Vigo 30 de julio 2026: pop latino en Castrelos
DESCRIPTION:Chayanne concierto Vigo 30 de julio 2026: pop latino en Castrelos\nEl 30 de julio de 2026\, el icónico artista puertorriqueño Chayanne ofrecerá un gran concierto en el Auditorio al aire libre del Parque de Castrelos en Vigo dentro del ciclo de conciertos de verano Vigo en Festas 2026. Con una trayectoria de más de tres décadas\, Chayanne llega para presentar una de las citas musicales más esperadas del verano gallego. \nLa actuación formará parte de su gira “Bailemos Otra Vez Tour 2026”\, en la que repasará sus grandes éxitos y temas recientes\, ofreciendo un espectáculo lleno de ritmo\, energía y conexión con el público de todas las edades. \n\nFecha y ubicación del concierto\nInformación clave del evento: \n\nEvento: Concierto Chayanne – Vigo en Festas 2026\nFecha: 30 de julio de 2026\nLugar: Auditorio del Parque de Castrelos\nCiudad: Vigo\, Pontevedra\n\nEl Auditorio de Castrelos es uno de los escenarios musicales al aire libre más emblemáticos de Vigo\, conocido por albergar grandes conciertos veraniegos con artistas nacionales e internacionales. \n\nQué esperar del concierto\nLos asistentes podrán disfrutar de: \n\nUn repertorio con grandes éxitos de Chayanne\, como Torero\, Salomé\, Dejaría todo y Bailando Bachata\nCanciones de su gira Bailemos Otra Vez Tour 2026\nUna puesta en escena dinámica con energía\, ritmo latino y producción visual y sonora pensada para grandes públicos\n\nEl concierto está diseñado para ofrecer una experiencia única\, combinando la potencia de su música pop latino con momentos de cercanía entre el artista y el público. \n\nHorario y recomendaciones\nEl evento tiene un horario aproximado: \n\n22:00 — Apertura de puertas (estimado)\n22:30 — Inicio del concierto\n00:00 — Final previsto (estimado)\n\nSe recomienda llegar con antelación para asegurar una buena ubicación y disfrutar de la atmósfera previa al concierto. El Auditorio de Castrelos ofrece zonas de grada de acceso gratuito y espacios de platea de pago\, según disponibilidad. \n\nEntradas\nLas entradas suelen ponerse a la venta meses antes del evento. La zona de grada suele ser gratuita en muchos conciertos de Vigo en Festas\, mientras que las entradas de platea se venden a precios asequibles a través de plataformas oficiales.
URL:https://galicia.info/event/chayanne-concierto-vigo-30-de-julio-2026-pop-latino-en-castrelos/
CATEGORIES:EventosRiasBaixas,EventosVigo
ATTACH;FMTTYPE=image/png:https://galicia.info/wp-content/uploads/2026/04/gg.png
END:VEVENT
END:VCALENDAR