BEGIN:VCALENDAR
VERSION:2.0
PRODID:-//Galicia.info - ECPv6.15.20//NONSGML v1.0//EN
CALSCALE:GREGORIAN
METHOD:PUBLISH
X-WR-CALNAME:Galicia.info
X-ORIGINAL-URL:https://galicia.info
X-WR-CALDESC:Eventos para Galicia.info
REFRESH-INTERVAL;VALUE=DURATION:PT1H
X-Robots-Tag:noindex
X-PUBLISHED-TTL:PT1H
BEGIN:VTIMEZONE
TZID:Europe/Paris
BEGIN:DAYLIGHT
TZOFFSETFROM:+0100
TZOFFSETTO:+0200
TZNAME:CEST
DTSTART:20250330T010000
END:DAYLIGHT
BEGIN:STANDARD
TZOFFSETFROM:+0200
TZOFFSETTO:+0100
TZNAME:CET
DTSTART:20251026T010000
END:STANDARD
BEGIN:DAYLIGHT
TZOFFSETFROM:+0100
TZOFFSETTO:+0200
TZNAME:CEST
DTSTART:20260329T010000
END:DAYLIGHT
BEGIN:STANDARD
TZOFFSETFROM:+0200
TZOFFSETTO:+0100
TZNAME:CET
DTSTART:20261025T010000
END:STANDARD
BEGIN:DAYLIGHT
TZOFFSETFROM:+0100
TZOFFSETTO:+0200
TZNAME:CEST
DTSTART:20270328T010000
END:DAYLIGHT
BEGIN:STANDARD
TZOFFSETFROM:+0200
TZOFFSETTO:+0100
TZNAME:CET
DTSTART:20271031T010000
END:STANDARD
END:VTIMEZONE
BEGIN:VEVENT
DTSTART;TZID=Europe/Paris:20260702T210000
DTEND;TZID=Europe/Paris:20260702T223000
DTSTAMP:20260424T121323
CREATED:20260406T094939Z
LAST-MODIFIED:20260406T094939Z
UID:16107-1783026000-1783031400@galicia.info
SUMMARY:Deep Purple concierto Vigo 2 de julio 2026: leyendas del rock llegan a Castrelos
DESCRIPTION:Deep Purple concierto Vigo 2 de julio 2026: leyendas del rock llegan a Castrelos\nEl 2 de julio de 2026\, uno de los grupos más icónicos de la historia del rock\, Deep Purple\, actuará en el Auditorio de Castrelos de Vigo\, ofreciendo un espectáculo único como parte de la programación de verano de la ciudad. Esta legendaria banda británica\, conocida por himnos como Smoke on the Water y Highway Star\, vuelve a Galicia tras décadas de trayectoria y múltiples visitas anteriores. \nLa actuación en Vigo promete ser una noche inolvidable para los amantes del rock clásico\, con una puesta en escena potente y la presencia de la formación actual de la banda\, que continúa manteniendo su influencia en la música internacional. \n\nFecha y ubicación del concierto\nInformación clave del evento: \n\nEvento: Concierto Deep Purple\nFecha: 2 de julio de 2026\nLugar: Auditorio de Castrelos\nCiudad: Vigo\n\nEl Auditorio de Castrelos es uno de los escenarios musicales al aire libre más emblemáticos de Galicia\, con grandes conciertos cada verano en un entorno natural dentro del parque. \n\nQué esperar del concierto\nLos asistentes podrán disfrutar de: \n\nInterpretaciones de clásicos que marcaron varias generaciones\nUna banda legendaria con más de 50 años de carrera\nSonido potente y una producción adecuada para grandes escenarios\nUn concierto pensado tanto para fans veteranos como nuevos seguidores\n\nLa combinación de historia\, calidad y espectáculo hacen de esta cita un evento imprescindible para los amantes del rock. \n\nHorario y recomendaciones\nEl concierto está programado para comenzar aproximadamente: \n\n📍 21:00 — Inicio del concierto (aprox.)\n\nSe recomienda llegar temprano para encontrar buen sitio en el auditorio y disfrutar de la atmósfera previa al show. \n\nEntradas\nLa venta de entradas suele activarse unas semanas antes del evento. En algunos conciertos de Castrelos el acceso a la grada es gratuito. Se recomienda seguir las plataformas oficiales de venta de entradas y la web del Auditorio de Castrelos para la confirmación de precios y disponibilidad. \n\nVigo\, rock y conciertos de verano\nLa llegada de Deep Purple confirma a Vigo como uno de los destinos musicales del verano de 2026. Conciertos en Castrelos como este complementan otras actuaciones nacionales e internacionales programadas durante la temporada estival\, consolidando la ciudad como un referente para los grandes espectáculos musicales.
URL:https://galicia.info/event/deep-purple-concierto-vigo-2-de-julio-2026-leyendas-del-rock-llegan-a-castrelos/
CATEGORIES:EventosRiasBaixas,EventosVigo
ATTACH;FMTTYPE=image/webp:https://galicia.info/wp-content/uploads/2026/04/Ian_Gillan_live_in_2012_20260318_194800.webp
END:VEVENT
END:VCALENDAR