BEGIN:VCALENDAR
VERSION:2.0
PRODID:-//Galicia.info - ECPv6.15.20//NONSGML v1.0//EN
CALSCALE:GREGORIAN
METHOD:PUBLISH
X-ORIGINAL-URL:https://galicia.info
X-WR-CALDESC:Eventos para Galicia.info
REFRESH-INTERVAL;VALUE=DURATION:PT1H
X-Robots-Tag:noindex
X-PUBLISHED-TTL:PT1H
BEGIN:VTIMEZONE
TZID:Europe/Paris
BEGIN:DAYLIGHT
TZOFFSETFROM:+0100
TZOFFSETTO:+0200
TZNAME:CEST
DTSTART:20250330T010000
END:DAYLIGHT
BEGIN:STANDARD
TZOFFSETFROM:+0200
TZOFFSETTO:+0100
TZNAME:CET
DTSTART:20251026T010000
END:STANDARD
BEGIN:DAYLIGHT
TZOFFSETFROM:+0100
TZOFFSETTO:+0200
TZNAME:CEST
DTSTART:20260329T010000
END:DAYLIGHT
BEGIN:STANDARD
TZOFFSETFROM:+0200
TZOFFSETTO:+0100
TZNAME:CET
DTSTART:20261025T010000
END:STANDARD
BEGIN:DAYLIGHT
TZOFFSETFROM:+0100
TZOFFSETTO:+0200
TZNAME:CEST
DTSTART:20270328T010000
END:DAYLIGHT
BEGIN:STANDARD
TZOFFSETFROM:+0200
TZOFFSETTO:+0100
TZNAME:CET
DTSTART:20271031T010000
END:STANDARD
END:VTIMEZONE
BEGIN:VEVENT
DTSTART;TZID=Europe/Paris:20260411T120000
DTEND;TZID=Europe/Paris:20260512T233000
DTSTAMP:20260420T092432
CREATED:20260401T091151Z
LAST-MODIFIED:20260401T093732Z
UID:16057-1775908800-1778628600@galicia.info
SUMMARY: Festival de Saiáns Picnic Sesións Vigo 11 y 12 de abril 2026: música\, arte y comunidad
DESCRIPTION: Festival de Saiáns Picnic Sesións Vigo 11 y 12 de abril 2026: música\, arte y comunidad\nEl Festival de Saiáns Picnic Sesións Vigo 11 y 12 de abril 2026 es una cita cultural y musical al aire libre en Vigo. Este evento de dos días combina música en directo\, actividades comunitarias\, arte y mercado contemporáneo en la zona verde de Radio Costeira\, en Saiáns. \nOrganizado por la Asociación Cultural Lideiras\, el festival forma parte del proyecto sociocultural PICNIC sesións\, que busca dinamizar Saiáns con actividades que conectan naturaleza\, cultura y comunidad. \n\nPrograma del Festival de Saiáns Picnic Sesións Vigo 11 y 12 de abril 2026\nEl Festival de Saiáns se celebra durante dos jornadas de primavera con una agenda diversa: \n\nSábado 11 de abril de 2026 – Música en directo con varias actuaciones artísticas\, ambiente familiar y food trucks.\nDomingo 12 de abril de 2026 – Música\, actividades creativas\, mercado contemporáneo y más propuestas al aire libre.\n\nAunque la programación musical final puede completarse más adelante\, este evento habitual suele contar con bandas locales y sesiones musicales que animan toda la tarde. \nAdemás de los conciertos\, el festival está lleno de actividades: \n\nMercado Contemporáneo con artesanía y productos locales\nTalleres creativos y artísticos para todas las edades\nCertamen de pintura rápida al aire libre\nGastronomía y food trucks\nJuegos y espacios de ocio para familias\n\nEl ambiente del festival se caracteriza por un entorno natural excepcional\, ideal para pasar el día entre música\, picnic y comunidad. \n\n Música al aire libre y ambiente para todos\nLa música en el Festival de Saiáns Picnic Sesións Vigo 11 y 12 de abril 2026 no solo incluye conciertos\, sino también sesiones musicales abiertas\, artistas locales emergentes y propuestas para todos los gustos. El programa suele comenzar alrededor de mediodía y se extiende hasta la tarde\, aprovechando la luz natural y el entorno verde de Saiáns. \nEl festival tiene fama de ser accesible y gratuito\, con actividades pensadas tanto para jóvenes como para familias completas.
URL:https://galicia.info/event/travole-vigo-19-de-abril-2026-circo-magia-y-acrobacias-para-toda-la-familia/
CATEGORIES:EventosRiasBaixas,EventosVigo
ATTACH;FMTTYPE=image/png:https://galicia.info/wp-content/uploads/2026/04/2026-03-15-redes-v2-02_compress.png
END:VEVENT
BEGIN:VEVENT
DTSTART;TZID=Europe/Paris:20260424T110000
DTEND;TZID=Europe/Paris:20260426T213000
DTSTAMP:20260420T092432
CREATED:20260401T110218Z
LAST-MODIFIED:20260401T110218Z
UID:16087-1777028400-1777239000@galicia.info
SUMMARY:Galiexpo Motor Show Vigo 2026 | Feria del motor en IFEVI
DESCRIPTION:Galiexpo Motor Show Vigo 2026 | Feria del motor en IFEVI\nEl Galiexpo Motor Show 2026 se prepara para volver a Vigo del 24 al 26 de abril de 2026\, consolidándose como uno de los eventos más importantes del motor en el noroeste peninsular. La cita tendrá lugar en IFEVI (Instituto Ferial de Vigo)\, un espacio amplio y accesible donde se dan cita aficionados\, marcas\, expositores y público general para vivir una experiencia completa alrededor del mundo del automóvil\, la competición\, las exhibiciones y las últimas innovaciones del sector. \nDurante tres días\, Galiexpo se convierte en un punto de encuentro para apasionados de los coches\, las motos\, el tuning y la tecnología automotriz. Con más de 50 000 m² de exposición y más de 100 empresas participantes\, el evento ofrece desde vehículos clásicos y superdeportivos hasta novedades de competición\, performance\, 4×4\, caravaning\, motos y furgocampers. \nAdemás de la exposición estática\, Galiexpo Motor Show cuenta con espectáculos de drift\, exhibiciones en directo\, simuladores de conducción y actividades interactivas para todas las edades\, lo que lo convierte en un plan ideal tanto para entusiastas del motor como para familias. \nFecha\, lugar y horario \n\nEvento: Galiexpo Motor Show 2026\nFecha: 24\, 25 y 26 de abril de 2026\nLugar: IFEVI – Instituto Ferial de Vigo\, Av. do Aeroporto\, 772\, Vigo\nHorario aproximado:\n\n24 de abril: 11:00 – 20:30\n25 de abril: 11:00 – 21:00\n26 de abril: 11:00 – 20:30\n\n\n\nEntradas y actividades \nLas entradas para Galiexpo están disponibles tanto para la feria general como para actividades específicas dentro del evento. Además de la exposición principal de vehículos y accesorios\, se celebran concentraciones temáticas de coches clásicos\, hiperdeportivos y motos\, amplificando la experiencia para los asistentes. \nPor qué ir: \nGaliexpo Motor Show combina innovación\, entretenimiento y pasión por el motor en un entorno dinámico y familiar. Es una cita obligada para quienes quieren ver las últimas tendencias del sector automovilístico\, disfrutar de exhibiciones espectaculares y compartir la pasión por los vehículos en pleno corazón de Vigo.
URL:https://galicia.info/event/galiexpo-motor-show-vigo-2026-feria-del-motor-en-ifevi/
CATEGORIES:EventosRiasBaixas,EventosVigo
ATTACH;FMTTYPE=image/jpeg:https://galicia.info/wp-content/uploads/2026/04/657170039_18382406137094244_5787528166651951413_n.jpg
END:VEVENT
END:VCALENDAR