BEGIN:VCALENDAR
VERSION:2.0
PRODID:-//Galicia.info - ECPv6.15.20//NONSGML v1.0//EN
CALSCALE:GREGORIAN
METHOD:PUBLISH
X-WR-CALNAME:Galicia.info
X-ORIGINAL-URL:https://galicia.info
X-WR-CALDESC:Eventos para Galicia.info
REFRESH-INTERVAL;VALUE=DURATION:PT1H
X-Robots-Tag:noindex
X-PUBLISHED-TTL:PT1H
BEGIN:VTIMEZONE
TZID:Europe/Paris
BEGIN:DAYLIGHT
TZOFFSETFROM:+0100
TZOFFSETTO:+0200
TZNAME:CEST
DTSTART:20250330T010000
END:DAYLIGHT
BEGIN:STANDARD
TZOFFSETFROM:+0200
TZOFFSETTO:+0100
TZNAME:CET
DTSTART:20251026T010000
END:STANDARD
BEGIN:DAYLIGHT
TZOFFSETFROM:+0100
TZOFFSETTO:+0200
TZNAME:CEST
DTSTART:20260329T010000
END:DAYLIGHT
BEGIN:STANDARD
TZOFFSETFROM:+0200
TZOFFSETTO:+0100
TZNAME:CET
DTSTART:20261025T010000
END:STANDARD
BEGIN:DAYLIGHT
TZOFFSETFROM:+0100
TZOFFSETTO:+0200
TZNAME:CEST
DTSTART:20270328T010000
END:DAYLIGHT
BEGIN:STANDARD
TZOFFSETFROM:+0200
TZOFFSETTO:+0100
TZNAME:CET
DTSTART:20271031T010000
END:STANDARD
END:VTIMEZONE
BEGIN:VEVENT
DTSTART;TZID=Europe/Paris:20260410T083000
DTEND;TZID=Europe/Paris:20260410T220000
DTSTAMP:20260420T092022
CREATED:20260408T094059Z
LAST-MODIFIED:20260408T094059Z
UID:16344-1775809800-1775858400@galicia.info
SUMMARY:Pantomima Full hecho a mano: comedia en directo
DESCRIPTION:Pantomima Full hecho a mano: comedia en directo\nEl Pantomima Full hecho a mano espectáculo Vigo abril 2026 llega al Teatro Afundación Vigo con dos funciones imperdibles. Este espectáculo de comedia combina sátira\, humor absurdo y crítica social con el ingenio característico de los creadores. \nDurante la obra\, los espectadores vivirán situaciones inesperadas que giran en torno a la vida cotidiana y la cultura pop. Cada sketch está cuidadosamente construido para generar risas\, reflexión y sorpresa. La interacción con el público hace que cada función sea única\, creando un vínculo especial entre los artistas y los asistentes. \nFechas y horarios\n\n10 de abril de 2026 a las 20:30 h\n11 de abril de 2026 a las 19:30 h\n\nCada función tiene una duración aproximada de 100 minutos. Se recomienda llegar con antelación\, ya que no se garantiza el acceso una vez iniciado el espectáculo. La edad mínima para asistir es 16 años. \nQué esperar del espectáculo\nPantomima Full ha revolucionado la comedia en España gracias a su estilo original y a su capacidad para mezclar lo absurdo con situaciones muy reconocibles. En esta versión “hecho a mano”\, los artistas exploran temas cotidianos desde un punto de vista crítico y cómico\, siempre con un toque de improvisación que mantiene al público atento y sorprendido. \nEl espectáculo es una excelente oportunidad para disfrutar del humor en vivo en Vigo. Además\, el Teatro Afundación Vigo ofrece un espacio cómodo y bien equipado\, con accesibilidad y un ambiente ideal para disfrutar de la comedia sin distracciones. \nEntradas y acceso\nLas entradas se pueden adquirir a través del portal oficial del teatro o en taquilla antes del espectáculo. Se recomienda mantener los dispositivos móviles apagados y no grabar el espectáculo. El consumo de alimentos y bebidas dentro del auditorio no está permitido. \nNo te pierdas Pantomima Full hecho a mano en Vigo. Humor\, ingenio y risas aseguradas te esperan los días 10 y 11 de abril de 2026. \nUbicación: Teatro Afundación Vigo\, Vigo\, Galicia.
URL:https://galicia.info/event/pantomima-full-hecho-a-mano-comedia-en-directo/
CATEGORIES:EventosVigo
ATTACH;FMTTYPE=image/avif:https://galicia.info/wp-content/uploads/2026/04/public-46.avif
END:VEVENT
BEGIN:VEVENT
DTSTART;TZID=Europe/Paris:20260410T203000
DTEND;TZID=Europe/Paris:20260410T233000
DTSTAMP:20260420T092022
CREATED:20260401T072350Z
LAST-MODIFIED:20260401T072350Z
UID:16021-1775853000-1775863800@galicia.info
SUMMARY:Dirty Suc concierto Vigo 10 de abril 2026: una noche histórica
DESCRIPTION:Dirty Suc concierto Vigo 10 de abril 2026: una noche histórica\nEl 10 de abril de 2026\, Dirty Suc actuará en Auditorio Mar de Vigo para celebrar cinco años de trayectoria musical. \nEl concierto será un repaso por su evolución artística\, mostrando sus mejores temas y sorpresas especiales. Además\, promete una puesta en escena nunca antes vista\, haciendo de la noche un evento imprescindible para la música urbana gallega. \n\nFecha y ubicación del concierto\nInformación clave del evento: \n\nEvento: Concierto especial Dirty Suc\nFecha: 10 de abril de 2026\nLugar: Auditorio Mar de Vigo\nCiudad: Vigo\n\nEl auditorio ofrece una acústica profesional y buena visibilidad desde cualquier asiento\, ideal para disfrutar de un espectáculo de este nivel. \n\n Qué esperar del concierto\nDirty Suc presentará un repertorio que incluye: \n\nSus grandes éxitos de estos cinco años\nTemas nuevos y colaboraciones especiales\nInvitados sorpresa que enriquecerán la experiencia\n\nLa combinación de música urbana\, espectáculo visual y energía en el escenario promete un concierto memorable para los asistentes. \n\n Horario y recomendaciones\nEl evento tiene un horario aproximado: \n\n20:30 — Apertura de puertas\n21:00 — Inicio del concierto\n23:30 — Final previsto\n\nSe recomienda llegar con antelación para conseguir buen sitio y disfrutar de toda la experiencia. \nEl Auditorio Mar de Vigo cuenta con todos los servicios necesarios para una asistencia cómoda y segura. \n\n Vigo\, epicentro de la música urbana\nVigo se ha convertido en un punto clave para la escena urbana gallega. Eventos como este consolidan la ciudad como referente musical del noroeste de España. \nEl concierto de Dirty Suc es una oportunidad para disfrutar de ritmo\, energía y producción de primer nivel en un entorno profesional. \n\n Entradas\nLas entradas estarán disponibles en la página oficial del auditorio y plataformas autorizadas. \nSe recomienda comprarlas con antelación\, ya que este concierto especial puede agotarse rápidamente.
URL:https://galicia.info/event/dirty-suc-concierto-vigo-10-de-abril-2026-una-noche-historica/
CATEGORIES:EventosRiasBaixas,EventosVigo
ATTACH;FMTTYPE=image/jpeg:https://galicia.info/wp-content/uploads/2026/04/TOUR-25-26-INDIVIDUAL-VIGO-CUADRADO.jpg
END:VEVENT
BEGIN:VEVENT
DTSTART;TZID=Europe/Paris:20260410T230000
DTEND;TZID=Europe/Paris:20260410T230000
DTSTAMP:20260420T092022
CREATED:20260401T102834Z
LAST-MODIFIED:20260401T102845Z
UID:16067-1775862000-1775862000@galicia.info
SUMMARY:TANGOMANGO Vigo 2026: Soul‑Funk en Sala Masterclub
DESCRIPTION:TANGOMANGO Vigo 2026: Soul‑Funk en Sala Masterclub\nEl grupo TANGOMANGO confirma su concierto en Vigo el 10 de abril de 2026\, dentro de una serie de actuaciones que están destacando por su energía y propuesta musical única. La cita será en Sala Masterclub\, uno de los recintos más conocidos de la ciudad para conciertos en formato íntimo y vibrante. \nAunque el concierto ya está programado oficialmente para esa fecha\, la organización sigue ultimando detalles logísticos y productores invitados para ofrecer una experiencia completa a los asistentes. \nSi te gusta la música que te hace mover\, será una oportunidad ideal para disfrutar de un directo lleno de ritmo y autenticidad. \nUna propuesta musical que no deja indiferente\nTANGOMANGO no viene a pedir permiso: su música está inspirada en sonidos como el soul‑funk visceral\, la psicodelia colorida y un groove imparable que contagia desde los primeros acordes. \nCon influencias de leyendas como Sly and the Family Stone\, Prince o Parliament‑Funkadelic\, su propuesta también deja espacio para la emoción profunda\, recordando a artistas como Michael Kiwanuka o Curtis Harding. \nEl directo de TANGOMANGO es una experiencia vibrante: pura energía para entregarse al baile\, al ritmo y a la conexión con la música en vivo\, lo que lo convierte en un plan ideal para los amantes del soul y el funk en Galicia. \n Lugar del concierto: Sala Masterclub\, Vigo\nSala Masterclub es una sala de conciertos y ocio nocturno en pleno centro de Vigo\, con buena acústica y un ambiente perfecto para shows en directo. \n\n📅 Fecha: 10 de abril de 2026\n🕚 Hora: 23:00 — Inicio del concierto\n📌 Dirección: Rúa de Urzaiz\, 1\, 36201 Vigo\n\n Planning aproximado del concierto\nAunque no hay un horario oficial publicado aparte del inicio\, un evento de este tipo suele seguir un esquema similar: \n\n23:00 — Apertura de puertas y concierto principal (Puede haber artistas invitados o alguna actuación previa anunciada próximamente.)\n\n Entradas\nLas entradas están disponibles a través de plataformas oficiales como Entradium o Ticketrona\, con precios desde aproximadamente 12 € en venta anticipada. \nSe recomienda adquirirlas con antelación\, ya que los conciertos de este estilo y formato suelen tener buena demanda. \n Conexión con el público gallego\nTANGOMANGO ha logrado consolidarse en la escena musical local y su propuesta ha tenido una excelente acogida en anteriores actuaciones en Galicia\, donde el soul y el funk siempre encuentran una audiencia fiel. \nSi te gusta la música que te hace mover y sentir cada ritmo\, el concierto del 10 de abril en Vigo será uno de los eventos musicales más destacados de la primaver
URL:https://galicia.info/event/tangomango-vigo-2026-soul-funk-en-sala-masterclub/
CATEGORIES:EventosRiasBaixas,EventosVigo
ATTACH;FMTTYPE=image/jpeg:https://galicia.info/wp-content/uploads/2026/04/event_m_Tangomango_banda_01.jpg
END:VEVENT
END:VCALENDAR