BEGIN:VCALENDAR
VERSION:2.0
PRODID:-//Galicia.info - ECPv6.15.20//NONSGML v1.0//EN
CALSCALE:GREGORIAN
METHOD:PUBLISH
X-ORIGINAL-URL:https://galicia.info
X-WR-CALDESC:Eventos para Galicia.info
REFRESH-INTERVAL;VALUE=DURATION:PT1H
X-Robots-Tag:noindex
X-PUBLISHED-TTL:PT1H
BEGIN:VTIMEZONE
TZID:Europe/Paris
BEGIN:DAYLIGHT
TZOFFSETFROM:+0100
TZOFFSETTO:+0200
TZNAME:CEST
DTSTART:20250330T010000
END:DAYLIGHT
BEGIN:STANDARD
TZOFFSETFROM:+0200
TZOFFSETTO:+0100
TZNAME:CET
DTSTART:20251026T010000
END:STANDARD
BEGIN:DAYLIGHT
TZOFFSETFROM:+0100
TZOFFSETTO:+0200
TZNAME:CEST
DTSTART:20260329T010000
END:DAYLIGHT
BEGIN:STANDARD
TZOFFSETFROM:+0200
TZOFFSETTO:+0100
TZNAME:CET
DTSTART:20261025T010000
END:STANDARD
BEGIN:DAYLIGHT
TZOFFSETFROM:+0100
TZOFFSETTO:+0200
TZNAME:CEST
DTSTART:20270328T010000
END:DAYLIGHT
BEGIN:STANDARD
TZOFFSETFROM:+0200
TZOFFSETTO:+0100
TZNAME:CET
DTSTART:20271031T010000
END:STANDARD
END:VTIMEZONE
BEGIN:VEVENT
DTSTART;TZID=Europe/Paris:20260406T080000
DTEND;TZID=Europe/Paris:20260406T170000
DTSTAMP:20260420T092330
CREATED:20260406T082029Z
LAST-MODIFIED:20260406T082029Z
UID:16094-1775462400-1775494800@galicia.info
SUMMARY:Vargas Blues Band concierto Vigo 26 de junio 2026: blues y rock en vivo
DESCRIPTION:Vargas Blues Band concierto Vigo 26 de junio 2026: blues y rock en vivo\nEl 26 de junio de 2026\, Vargas Blues Band ofrecerá un concierto único en Sala Masterclub Vigo\, llevando a los asistentes a un viaje por el blues y rock de calidad con la maestría que caracteriza a la banda. \nEl espectáculo repasará sus temas más icónicos y novedades\, combinando guitarras potentes\, ritmo impecable y una puesta en escena que hará vibrar a todos los amantes de la música en directo. \nFecha y ubicación del concierto\nInformación clave del evento: \n\nEvento: Concierto Vargas Blues Band\nFecha: 26 de junio de 2026\nLugar: Sala Masterclub\nCiudad: Vigo\n\nLa sala ofrece un ambiente íntimo\, buena acústica y visibilidad desde cualquier punto\, perfecto para disfrutar de la fuerza del blues y rock en directo. \nQué esperar del concierto\nEl público podrá disfrutar de: \n\nGrandes éxitos de la banda\nNovedades y temas de su último repertorio\nInterpretaciones llenas de energía y virtuosismo\nAmbiente cercano que permite sentir la música de primera mano\n\nLa combinación de talento\, guitarra y ritmo asegurará una noche inolvidable para todos los asistentes. \nHorario y recomendaciones\nEl evento tiene un horario aproximado: \n\n20:30 — Apertura de puertas\n21:00 — Inicio del concierto\n23:00 — Final previsto\n\nSe recomienda llegar con antelación para conseguir un buen lugar y disfrutar de toda la experiencia. La Sala Masterclub cuenta con todos los servicios necesarios para una asistencia cómoda y segura. \nVigo\, epicentro de conciertos íntimos\nVigo se ha consolidado como un punto de referencia para la música en directo en Galicia\, especialmente para conciertos de blues\, rock y géneros alternativos. Eventos como este permiten disfrutar de la música de calidad en un entorno cercano y profesional. \nEntradas\nLas entradas estarán disponibles en la página oficial de la sala y plataformas autorizadas. \nSe recomienda comprarlas con antelación\, ya que este concierto puede agotarse rápidamente.
URL:https://galicia.info/event/vargas-blues-band-concierto-vigo-26-de-junio-2026-blues-y-rock-en-vivo/
CATEGORIES:EventosRiasBaixas,EventosVigo
ATTACH;FMTTYPE=image/jpeg:https://galicia.info/wp-content/uploads/2026/04/HISTORIAS-DE-LA-CARRETERA-_VIGO_26-JUNIO-416x589-1.jpg
END:VEVENT
BEGIN:VEVENT
DTSTART;TZID=Europe/Paris:20260406T080000
DTEND;TZID=Europe/Paris:20260406T170000
DTSTAMP:20260420T092330
CREATED:20260406T104946Z
LAST-MODIFIED:20260406T104946Z
UID:16143-1775462400-1775494800@galicia.info
SUMMARY:Maldita Nerea concierto Vigo 30 de mayo 2026: Origen\, el camino de las canciones
DESCRIPTION:Maldita Nerea concierto Vigo 30 de mayo 2026: Origen\, el camino de las canciones\nEl 30 de mayo de 2026\, el reconocido grupo español Maldita Nerea llegará al Teatro Afundación Vigo para ofrecer un concierto muy especial dentro de su gira “Origen: El Camino de las Canciones”. Este espectáculo propone un formato acústico íntimo e emocional\, llevando a los asistentes por un viaje que recorre la esencia de su música desde sus raíces hasta la melodía más profunda. \n\nFecha y ubicación del concierto\nInformación clave del evento: \n\nEvento: Concierto Maldita Nerea – Gira Origen: El Camino de las Canciones\nFecha: 30 de mayo de 2026\nLugar: Teatro Afundación Vigo\nCiudad: Vigo\, Pontevedra\n\nEl Teatro Afundación es un espacio céntrico con gran acústica y visibilidad desde todos los asientos\, ideal para vivir una experiencia musical cercana y detallista. \n\nQué esperar del concierto\nEste evento es una oportunidad única para disfrutar de Maldita Nerea desde una perspectiva más íntima y emocional\, con: \n\nInterpretaciones acústicas de temas populares del grupo\nVersiones reinventadas de grandes éxitos\nUn formato donde la improvisación y la interacción con el público cobran protagonismo\nUn viaje musical desde el silencio hasta la melodía en el corazón de sus canciones\n\nLa banda\, liderada por Jorge Ruiz\, es conocida por su estilo pop rock con un fuerte componente melódico y letras cercanas que conectan con varias generaciones de fans. \n\nHorario y recomendaciones\nEl concierto tiene un horario aproximado: \n\n21:00 — Apertura de puertas\n21:30 — Inicio del concierto\n23:00 — Final previsto\n\nSe recomienda llegar con antelación para asegurar una buena ubicación y disfrutar de todo el espectáculo desde el principio. \n\nEntradas\nLas entradas están disponibles en plataformas oficiales de venta como Ataquilla. Los precios varían según ubicación\, y se aconseja reservar con antelación\, ya que este tipo de conciertos con formato especial puede agotar rápidamente. \n\nVigo\, escenario de música íntima y en directo\nAunque la mayoría de los conciertos de verano se concentran en junio\, julio y agosto\, este evento de Maldita Nerea en mayo de 2026 destaca por su propuesta acústica y cercana\, diferenciándose de los grandes conciertos al aire libre y ofreciendo una experiencia musical más personal en Vigo.
URL:https://galicia.info/event/maldita-nerea-concierto-vigo-30-de-mayo-2026-origen-el-camino-de-las-canciones/
CATEGORIES:EventosRiasBaixas,EventosVigo
ATTACH;FMTTYPE=image/avif:https://galicia.info/wp-content/uploads/2026/04/public-26.avif
END:VEVENT
END:VCALENDAR