BEGIN:VCALENDAR
VERSION:2.0
PRODID:-//Galicia.info - ECPv6.15.20//NONSGML v1.0//EN
CALSCALE:GREGORIAN
METHOD:PUBLISH
X-WR-CALNAME:Galicia.info
X-ORIGINAL-URL:https://galicia.info
X-WR-CALDESC:Eventos para Galicia.info
REFRESH-INTERVAL;VALUE=DURATION:PT1H
X-Robots-Tag:noindex
X-PUBLISHED-TTL:PT1H
BEGIN:VTIMEZONE
TZID:Europe/Paris
BEGIN:DAYLIGHT
TZOFFSETFROM:+0100
TZOFFSETTO:+0200
TZNAME:CEST
DTSTART:20250330T010000
END:DAYLIGHT
BEGIN:STANDARD
TZOFFSETFROM:+0200
TZOFFSETTO:+0100
TZNAME:CET
DTSTART:20251026T010000
END:STANDARD
BEGIN:DAYLIGHT
TZOFFSETFROM:+0100
TZOFFSETTO:+0200
TZNAME:CEST
DTSTART:20260329T010000
END:DAYLIGHT
BEGIN:STANDARD
TZOFFSETFROM:+0200
TZOFFSETTO:+0100
TZNAME:CET
DTSTART:20261025T010000
END:STANDARD
BEGIN:DAYLIGHT
TZOFFSETFROM:+0100
TZOFFSETTO:+0200
TZNAME:CEST
DTSTART:20270328T010000
END:DAYLIGHT
BEGIN:STANDARD
TZOFFSETFROM:+0200
TZOFFSETTO:+0100
TZNAME:CET
DTSTART:20271031T010000
END:STANDARD
END:VTIMEZONE
BEGIN:VEVENT
DTSTART;TZID=Europe/Paris:20260605T193000
DTEND;TZID=Europe/Paris:20260606T220000
DTSTAMP:20260420T105756
CREATED:20260406T081503Z
LAST-MODIFIED:20260406T081503Z
UID:16090-1780687800-1780783200@galicia.info
SUMMARY:LAGO de Miguel Lago en Vigo 5 y 6 de junio 2026: teatro y humor inolvidable
DESCRIPTION:LAGO de Miguel Lago en Vigo 5 y 6 de junio 2026: teatro y humor inolvidable\nEl 5 y 6 de junio de 2026\, Miguel Lago presentará su espectáculo “LAGO” en el Teatro Afundación Vigo\, prometiendo dos noches llenas de humor\, ingenio y reflexiones que conectan con todos los públicos. \nEl show será un repaso por su creatividad escénica\, combinando monólogos\, sketches y momentos interactivos con el público. La puesta en escena está diseñada para sorprender\, haciendo de estas dos funciones un evento imprescindible para los amantes del teatro y la comedia gallega. \nFecha y ubicación del espectáculo\nInformación clave del evento: \n\nEvento: Espectáculo “LAGO” de Miguel Lago\nFecha: 5 y 6 de junio de 2026\nLugar: Teatro Afundación Vigo\nCiudad: Vigo\n\nEl teatro ofrece una acústica profesional y visibilidad perfecta desde cualquier asiento\, ideal para disfrutar de un espectáculo lleno de matices y risas garantizadas. \nQué esperar del espectáculo\nEl público podrá disfrutar de: \n\nMonólogos originales y sorprendentes\nMomentos interactivos con el público\nReflexiones cómicas sobre la vida cotidiana\nSorpresas escénicas que enriquecerán la experiencia\n\nLa combinación de humor\, talento y energía sobre el escenario asegura unas noches memorables para todos los asistentes. \nHorario y recomendaciones\nEl evento tiene un horario aproximado: \n\n19:30 — Apertura de puertas\n20:00 — Inicio del espectáculo\n22:00 — Final previsto\n\nSe recomienda llegar con antelación para asegurar los mejores asientos y disfrutar de toda la experiencia. El Teatro Afundación cuenta con todos los servicios necesarios para una asistencia cómoda y segura. \nVigo\, epicentro de la comedia y el teatro\nVigo se ha convertido en un punto clave para la escena teatral y humorística de Galicia. Eventos como este consolidan la ciudad como referente cultural del noroeste de España. \nEl espectáculo “LAGO” de Miguel Lago es una oportunidad única para disfrutar de talento\, ingenio y entretenimiento de primer nivel en un entorno profesional. \nEntradas\nLas entradas estarán disponibles en la página oficial del teatro y plataformas autorizadas. \nSe recomienda comprarlas con antelación\, ya que estas funciones especiales pueden agotarse rápidamente
URL:https://galicia.info/event/lago-de-miguel-lago-en-vigo-5-y-6-de-junio-2026-teatro-y-humor-inolvidable/
CATEGORIES:EventosRiasBaixas,EventosVigo
ATTACH;FMTTYPE=image/jpeg:https://galicia.info/wp-content/uploads/2026/04/miguel-lago-presenta-que-no-salga-de-aqui__maxwidth.jpg
END:VEVENT
BEGIN:VEVENT
DTSTART;TZID=Europe/Paris:20260627T203000
DTEND;TZID=Europe/Paris:20260627T230000
DTSTAMP:20260420T105756
CREATED:20260406T091302Z
LAST-MODIFIED:20260406T091302Z
UID:16101-1782592200-1782601200@galicia.info
SUMMARY:Antonio Orozco concierto O Porriño 27 de junio 2026: pop y emociones en directo
DESCRIPTION:Antonio Orozco concierto O Porriño 27 de junio 2026: pop y emociones en directo\nEl 27 de junio de 2026\, el reconocido cantautor español Antonio Orozco llegará al Espacio de Eventos de O Porriño\, a pocos minutos de Vigo\, para ofrecer un concierto lleno de música\, emoción y grandes éxitos que han marcado su trayectoria. \nEl espectáculo será un repaso por sus canciones más conocidas\, así como la presentación de nuevos temas de su último álbum. Con su estilo único y la fuerza de su voz\, Antonio Orozco promete una noche inolvidable para los fans del pop español. \nFecha y ubicación del concierto\nInformación clave del evento: \n\nEvento: Concierto Antonio Orozco\nFecha: 27 de junio de 2026\nLugar: Espacio de Eventos de O Porriño\nCiudad: O Porriño (Vigo área)\n\nEl espacio está equipado con todo lo necesario para disfrutar de un concierto en condiciones óptimas: buena acústica\, visibilidad y accesibilidad para todos los asistentes. \nQué esperar del concierto\nLos asistentes podrán disfrutar de: \n\nGrandes éxitos de Antonio Orozco\nTemas de su último álbum\nInterpretaciones llenas de emoción y cercanía\nUna puesta en escena profesional y dinámica\n\nLa combinación de talento\, repertorio y cercanía con el público asegura una experiencia memorable. \nHorario y recomendaciones\n\n20:30 — Apertura de puertas\n21:00 — Inicio del concierto\n23:00 — Final previsto\n\nSe recomienda llegar con antelación para asegurar buen sitio y disfrutar de toda la experiencia. \nEntradas\nLas entradas están disponibles en plataformas oficiales y se recomienda adquirirlas con antelación\, ya que este tipo de conciertos suele agotarse rápidamente. \n\nVigo y alrededores\, epicentro de la música pop\nAunque el concierto se celebra en O Porriño\, su cercanía a Vigo lo convierte en una cita accesible para todos los habitantes de la ciudad y su área metropolitana\, consolidando la región como punto de referencia para conciertos de pop y artistas nacionales.
URL:https://galicia.info/event/antonio-orozco-concierto-o-porrino-27-de-junio-2026-pop-y-emociones-en-directo/
CATEGORIES:EventosRiasBaixas,EventosVigo
ATTACH;FMTTYPE=image/jpeg:https://galicia.info/wp-content/uploads/2026/04/eELzlGViSGF8.jpg
END:VEVENT
END:VCALENDAR