BEGIN:VCALENDAR
VERSION:2.0
PRODID:-//Galicia.info - ECPv6.15.20//NONSGML v1.0//EN
CALSCALE:GREGORIAN
METHOD:PUBLISH
X-WR-CALNAME:Galicia.info
X-ORIGINAL-URL:https://galicia.info
X-WR-CALDESC:Eventos para Galicia.info
REFRESH-INTERVAL;VALUE=DURATION:PT1H
X-Robots-Tag:noindex
X-PUBLISHED-TTL:PT1H
BEGIN:VTIMEZONE
TZID:Europe/Paris
BEGIN:DAYLIGHT
TZOFFSETFROM:+0100
TZOFFSETTO:+0200
TZNAME:CEST
DTSTART:20250330T010000
END:DAYLIGHT
BEGIN:STANDARD
TZOFFSETFROM:+0200
TZOFFSETTO:+0100
TZNAME:CET
DTSTART:20251026T010000
END:STANDARD
BEGIN:DAYLIGHT
TZOFFSETFROM:+0100
TZOFFSETTO:+0200
TZNAME:CEST
DTSTART:20260329T010000
END:DAYLIGHT
BEGIN:STANDARD
TZOFFSETFROM:+0200
TZOFFSETTO:+0100
TZNAME:CET
DTSTART:20261025T010000
END:STANDARD
BEGIN:DAYLIGHT
TZOFFSETFROM:+0100
TZOFFSETTO:+0200
TZNAME:CEST
DTSTART:20270328T010000
END:DAYLIGHT
BEGIN:STANDARD
TZOFFSETFROM:+0200
TZOFFSETTO:+0100
TZNAME:CET
DTSTART:20271031T010000
END:STANDARD
END:VTIMEZONE
BEGIN:VEVENT
DTSTART;TZID=Europe/Paris:20260301T123000
DTEND;TZID=Europe/Paris:20260301T170000
DTSTAMP:20260420T091619
CREATED:20260216T105505Z
LAST-MODIFIED:20260216T105505Z
UID:15201-1772368200-1772384400@galicia.info
SUMMARY:Espectáculo familiar de magia: Lumiero en Vigo
DESCRIPTION:Lumiero llega a Vigo: magia\, luz y música\nEl domingo 1 de marzo de 2026\, La Menuda presenta Lumiero\, un espectáculo familiar que combina teatro y música en directo. El evento tendrá lugar en el Auditorio Municipal de Vigo\, en la Plaza del Rey\, y forma parte de la programación cultural Vigocultura 2026\, que se extiende hasta abril. \nLumiero invita al público más pequeño a un viaje mágico\, lleno de luz\, sombras y sonidos que despiertan la imaginación. \n\nUn universo de luz y poesía\nLumiero es un personaje entrañable y soñador\, explorador de la luz y la oscuridad. Junto a su hija\, Lumina\, descubrirá un mundo donde las luces y sombras cuentan historias invisibles a simple vista. \nEl espectáculo revive la primera luz que nos maravilló\, las chispas de viejos juguetes y rayos de luz que solo existen en los sueños. Cada movimiento cobra vida gracias a una banda sonora en directo creada con instrumentos tradicionales\, juguetes musicales y artilugios sonoros. \nLumiero combina magia\, humor y poesía\, transformando la oscuridad en un universo fascinante de luz y creatividad. \n\nSinopsis y público recomendado\nLumiero es un espectáculo pensado para la primera infancia y familias. Entre luces y sombras\, el relato enseña a los niños la belleza de la imaginación\, la música y el juego creativo. \nRecomendaciones: \nEdad: +2 años. \nUna persona adulta por niño/a en el espacio de representación. \nEl resto del público puede sentarse en el patio de butacas con visibilidad reducida. \n\nInformación del evento\nLugar: Auditorio Municipal del Concello de Vigo\, Praza do Rei\, 1\, Vigo. \nFecha y horario: Domingo 1 de marzo de 2026\, con tres sesiones: 12:30 h\, 16:30 h y 18:00 h. \nEntradas: 3 € por persona. Disponibles en Giglon.com. \nOrganización: Ayuntamiento de Vigo. \nEl aforo es reducido\, por lo que se recomienda comprar entradas anticipadas para asegurar plaza en este espectáculo único y entrañable. \n\nPor qué asistir a Lumiero\nLumiero no es solo un espectáculo\, es un viaje sensorial para los niños y sus familias\, donde la música y la luz crean una atmósfera mágica. \nAsistir significa: \nDisfrutar de teatro musical de calidad. \nEstimular la imaginación de los más pequeños. \nVivir una experiencia interactiva y poética\, donde la luz y las sombras se convierten en protagonistas del relato. \nLumiero promete una experiencia inolvidable para toda la familia y un inicio de marzo lleno de creatividad en Vigo.
URL:https://galicia.info/event/espectaculo-familiar-de-magia-lumiero-en-vigo/
CATEGORIES:EventosRiasBaixas,EventosVigo
ATTACH;FMTTYPE=image/jpeg:https://galicia.info/wp-content/uploads/2026/02/lumiero.jpg
END:VEVENT
BEGIN:VEVENT
DTSTART;TZID=Europe/Paris:20260307T203000
DTEND;TZID=Europe/Paris:20260307T203000
DTSTAMP:20260420T091619
CREATED:20260216T122913Z
LAST-MODIFIED:20260216T122913Z
UID:15245-1772915400-1772915400@galicia.info
SUMMARY:Concierto de Amancio Prada en Vigo
DESCRIPTION:Concierto de Amancio Prada en Vigo 2026\nEl sábado 7 de marzo de 2026\, el Teatro Afundación de Vigo acogerá un concierto muy especial de Amancio Prada\, a las 20:30 horas\, con motivo del 50 aniversario de su emblemático disco Rosalía de Castro. Esta actuación será única\, y se requiere entrada para asistir\, ya disponibles. \nDurante la velada\, Amancio Prada realizará un recorrido musical que une pasado y presente\, recuperando sus primeras composiciones inspiradas en los versos de Follas novas y Cantares gallegos\, mientras incorpora nuevas interpretaciones cargadas de madurez y emoción. \n\nUna noche de música y poesía\nEl concierto de Vigo será un homenaje a medio siglo de trayectoria\, donde la música de Amancio Prada mantiene viva la voz de Rosalía de Castro y su vínculo profundo con la poesía gallega. Los asistentes podrán disfrutar de un espectáculo que combina sensibilidad\, tradición y renovación artística\, celebrando la vigencia de un legado cultural imprescindible en Galicia. \n\nInformación del evento\nFecha: Sábado 7 de marzo de 2026 \nHora: 20:30 \nLugar: Teatro Afundación\, Vigo \nEntradas: Disponibles en la web oficial y puntos de venta habituales \nFormato: Pase único \nNo te pierdas la oportunidad de vivir en directo 50 años de Rosalía de Castro a través de la música de Amancio Prada\, un concierto que promete emoción y poesía en cada nota.
URL:https://galicia.info/event/concierto-de-amancio-prada-en-vigo/
CATEGORIES:EventosRiasBaixas,EventosVigo
ATTACH;FMTTYPE=image/jpeg:https://galicia.info/wp-content/uploads/2026/02/amanacioprada.jpg
END:VEVENT
BEGIN:VEVENT
DTSTART;TZID=Europe/Paris:20260307T213000
DTEND;TZID=Europe/Paris:20260307T213000
DTSTAMP:20260420T091619
CREATED:20260119T182649Z
LAST-MODIFIED:20260119T182757Z
UID:15069-1772919000-1772919000@galicia.info
SUMMARY:Concierto: Barry B en Vigo
DESCRIPTION:El artista Barry B continúa su Infancia Mal Calibrada Tour y llega a Vigo el 7 de marzo de 2026.La cita será en la Sala Rouge Vigo\, dentro de una gira que recorrerá España\, Latinoamérica y festivales\, siendo esta una de las dos paradas consecutivas del artista en Galicia. \nEn su concierto\, Barry B ofrecerá un directo intenso y emotivo\, con canciones de su nuevo EP publicado el 26 de septiembre\, así como temas que han definido sus primeros pasos en la música.El espectáculo combina arreglos guitarreros\, energía y melodías potentes\, priorizando la conexión inmediata con la audiencia y un repertorio pensado para el directo.Las entradas ya están disponibles en artmusicagency.es\, asegurando la asistencia a una cita imprescindible para los seguidores del pop-rock alternativo emergente. \n\nLugar: Sala Rouge VigoFecha: 7 de marzo de 2026Hora: Por confirmar \n\n🎤 Energía y conexión directa\nBarry B se ha consolidado como una referencia de la escena emergente española gracias a su capacidad de ofrecer conciertos directos y emocionantes.El público podrá disfrutar de un recorrido por sus composiciones más recientes y sus primeros éxitos\, en un formato que maximiza la proximidad con los asistentes.Cada canción se ejecuta con intensidad y claridad\, transmitiendo emociones auténticas y un pulso musical potente. \n\n🎸 Rock y melodía en formato íntimo\nEl repertorio del artista combina la insolencia de sus primeros temas con la madurez de las composiciones actuales\, todas pensadas para sonar con fuerza en directo.La energía guitarrera\, los estribillos directos y la interpretación emotiva hacen que el concierto sea compacto\, intenso y memorable.La puesta en escena se centra en la música y en la interacción con el público\, creando un espectáculo cercano y envolvente. \n\n🌆 Vigo como escenario alternativo\nLa Sala Rouge Vigo es un espacio ideal para conciertos íntimos y de energía elevada.Su ambiente y acústica permiten que artistas como Barry B ofrezcan un directo envolvente y lleno de intensidad\, con máxima cercanía al público.Esta cita se convierte en una oportunidad única para escuchar las canciones de su nuevo EP y revivir sus clásicos en Galicia\, dentro de una gira de largo recorrido que refuerza su proyección nacional e internacional. \n\nEn definitiva\, el concierto de Barry B en Vigo será una cita imprescindible para los fans del pop-rock alternativo\, directo y emocional.Una oportunidad de vivir música potente\, guitarras\, intensidad y cercanía en un entorno íntimo y memorable.
URL:https://galicia.info/event/concierto-barry-b-en-vigo/
CATEGORIES:EventosRiasBaixas,EventosVigo
ATTACH;FMTTYPE=image/jpeg:https://galicia.info/wp-content/uploads/2026/01/barryb.jpg
END:VEVENT
BEGIN:VEVENT
DTSTART;TZID=Europe/Paris:20260308T190000
DTEND;TZID=Europe/Paris:20260308T190000
DTSTAMP:20260420T091619
CREATED:20260216T110444Z
LAST-MODIFIED:20260216T110444Z
UID:15204-1772996400-1772996400@galicia.info
SUMMARY:Michael’s Legacy: homenaje a Michael Jackson en Vigo
DESCRIPTION:Michael’s Legacy llega a Vigo\nEl domingo 8 de marzo de 2026\, el Teatro Afundación de Vigo acoge Michael’s Legacy\, un espectáculo musical totalmente en directo sobre El Rey del Pop\, creado por la Jackson Dance Company. \nEste show está avalado por el Club de Fans de Michael Jackson en España y recrea el concepto de espectáculo que el propio Michael Jackson llevaba a sus giras. \n\nUn espectáculo musical de gran formato\nMichael’s Legacy combina: \n\n\nVoces y música en directo\, con una banda formada por cuatro músicos. \n\n\nCuerpo de baile con 8 bailarines que recrean fielmente los movimientos icónicos del Rey del Pop. \n\n\nEscenografía cuidada\, con réplicas exactas de las canciones originales y elementos visuales de sus conciertos. \n\n\nEl espectáculo cuenta con Ximo MJ\, el mejor impersonator de Michael Jackson en España\, que ofrece una interpretación fiel de sus gestos\, movimientos y estilo único. \n\nPara todas las edades\nMichael’s Legacy es apto para todos los públicos y promete: \n\n\nRevivir los grandes éxitos de Michael Jackson. \n\n\nDisfrutar de un espectáculo interactivo y emocionante\, que hace sentir al público parte de la actuación. \n\n\nExperimentar la magia de las giras de Michael Jackson con voces y música en directo\, acompañadas de un gran elenco de casi veinte artistas entre cantantes\, bailarines\, actores y técnicos. \n\n\n\nInformación del evento\n\n\nLugar: Teatro Afundación de Vigo \n\n\nFecha y hora: Domingo 8 de marzo de 2026\, 19:00 h \n\n\nEntradas: 22 €\, disponibles en Ataquilla \n\n\nSe recomienda comprar entradas anticipadas\, ya que se espera un lleno total debido a la popularidad del homenaje y la calidad del espectáculo. \n\nPor qué asistir a Michael’s Legacy\nAsistir a Michael’s Legacy significa vivir un viaje musical y visual que captura la esencia de Michael Jackson: ritmo\, espectáculo\, emoción y profesionalidad. \nEs una experiencia imprescindible para fans del Rey del Pop y para cualquier amante de la música y el baile en vivo.
URL:https://galicia.info/event/michaels-legacy-homenaje-a-michael-jackson-en-vigo/
CATEGORIES:EventosRiasBaixas,EventosVigo
ATTACH;FMTTYPE=image/png:https://galicia.info/wp-content/uploads/2026/02/michalelegacy.png
END:VEVENT
BEGIN:VEVENT
DTSTART;TZID=Europe/Paris:20260313T203000
DTEND;TZID=Europe/Paris:20260313T203000
DTSTAMP:20260420T091619
CREATED:20260216T111432Z
LAST-MODIFIED:20260216T111432Z
UID:15207-1773433800-1773433800@galicia.info
SUMMARY:Noche de Ópera: Diana Diva en Vigo
DESCRIPTION:El viernes 13 de marzo de 2026\, el Teatro Salesianos de Vigo acogerá Gran Noche de la Ópera\, un espectáculo lírico único protagonizado por la reconocida soprano Diana Diva. \nEl evento\, que también contará con la participación de Rebecca Hanun y otras sorpresas\, está diseñado para emocionar a toda la familia\, combinando excelencia vocal\, danza y poesía. \n\nUn espectáculo familiar más allá de la ópera\nBajo el título “Bienvenida a un Nuevo Año”\, el recital ofrece una experiencia sensorial completa. La propuesta fusiona: \n\n\nMúsica lírica y arias seleccionadas\, interpretadas por Diana Diva. \n\n\nDanza y poesía\, que enriquecen la narrativa visual. \n\n\nElementos interactivos\, conectando el arte con las vivencias del público. \n\n\nEste enfoque convierte la ópera en un espectáculo accesible y emocionante\, ideal para todos los públicos\, incluso quienes se acercan por primera vez al género lírico. \n\nCompromiso social: un espectáculo con causa\nParte de la recaudación del evento será destinada a organizaciones que trabajan por una infancia digna\, permitiendo que cada asistente contribuya a mejorar la vida de los más vulnerables mientras disfruta de un concierto de primer nivel. \n\nInformación del evento\n\n\nLugar: Cine Teatro Salesianos Vigo \n\n\nFecha y hora: Viernes 13 de marzo de 2026\, 20:30 h – 21:30 h \n\n\nEntradas: Disponibles en la plataforma online habilitada para la venta de tickets \n\n\nSe recomienda comprar entradas anticipadas\, ya que se espera un gran aforo debido a la popularidad de Diana Diva y el atractivo familiar del espectáculo. \n\nPor qué asistir a Gran Noche de la Ópera\nAsistir a Gran Noche de la Ópera significa: \n\n\nDisfrutar de un recital lírico de alto nivel en un entorno familiar. \n\n\nVivir una experiencia sensorial única con música\, danza y poesía. \n\n\nContribuir a una causa solidaria\, apoyando a organizaciones que trabajan por la infancia. \n\n\nUn espectáculo emocionante\, elegante y con alma\, que convierte la ópera en un evento cercano y memorable para toda la familia.
URL:https://galicia.info/event/noche-de-opera-diana-diva-en-vigo/
CATEGORIES:EventosRiasBaixas,EventosVigo
ATTACH;FMTTYPE=image/jpeg:https://galicia.info/wp-content/uploads/2026/02/dianariva.jpg
END:VEVENT
BEGIN:VEVENT
DTSTART;TZID=Europe/Paris:20260321T000000
DTEND;TZID=Europe/Paris:20260329T235959
DTSTAMP:20260420T091619
CREATED:20260326T070820Z
LAST-MODIFIED:20260326T070820Z
UID:15884-1774051200-1774828799@galicia.info
SUMMARY:La Reconquista de Vigo 2026
DESCRIPTION:🎭 Qué es la Reconquista de Vigo 2026\nLa Reconquista de Vigo 2026 convertirá el casco antiguo en un gran escenario histórico. Se celebrará del 21 al 29 de marzo de 2026. Durante esos días\, la ciudad revive uno de sus momentos más importantes. \nEsta fiesta recuerda la expulsión de las tropas napoleónicas en 1809. Además\, ofrece un programa lleno de cultura\, tradición y entretenimiento. Por eso\, atrae cada año a miles de visitantes. \n\n📅 Programa de la Reconquista de Vigo 2026\nEl evento comienza el sábado 21 de marzo con recreaciones iniciales. También se representa la destitución simbólica de las autoridades francesas. \nDurante ese primer fin de semana\, hay talleres\, música y actividades familiares. Estas se desarrollan en el Berbés y el casco histórico. \nEl lunes 23 de marzo se celebra la Reconquistiña. En este desfile infantil participan miles de escolares con trajes de época. Recorren el centro hasta la Porta do Sol. \nA partir del jueves 26\, comienzan los preparativos del mercado histórico. El viernes 27 abren más de 200 puestos de artesanía y gastronomía. \nSin embargo\, los días más intensos son el 27\, 28 y 29 de marzo. Durante ese fin de semana hay conciertos\, espectáculos y pasacalles. \nEl momento más esperado llega el domingo 29 a las 18:00 horas. Entonces se celebra la gran recreación en la Puerta del Sol. Cientos de vecinos participan en la victoria contra los franceses. \n\n🏰 Historia de la Reconquista de Vigo\nLa historia se remonta a la Guerra de la Independencia Española. En 1809\, las tropas francesas ocuparon Vigo.\nSin embargo\, los vecinos se organizaron para recuperar la ciudad. Liderados por figuras locales\, iniciaron una revuelta popular. Finalmente\, lograron expulsar a los franceses. \nEste hecho convirtió a Vigo en la primera ciudad europea liberada del dominio napoleónico. Además\, marcó un símbolo de resistencia y unidad. \nPor ello\, la fiesta actual no solo es un evento cultural. También es un homenaje a la identidad y el carácter de la ciudad. \n\n📍 Dónde se celebra la fiesta\nLa Reconquista tiene lugar en el Casco Vello de Vigo. Este barrio histórico ofrece el entorno perfecto para la recreación. \nSus calles estrechas y plazas antiguas crean una atmósfera única. Además\, los vecinos decoran balcones y fachadas con elementos de época. \n\n🌊 Vigo: mucho más que una fiesta\nVigo es una ciudad vibrante situada en la costa gallega. Destaca por su puerto\, su gastronomía y sus paisajes. \nAdemás\, ofrece lugares como la playa de Samil o el monte O Castro. Desde allí se obtienen vistas espectaculares de la ría. \nPor otro lado\, su cocina es famosa por el marisco fresco. Durante la Reconquista\, podrás probar platos tradicionales en puestos locales. \nEn resumen\, visitar Vigo durante esta fiesta es una experiencia completa. Combina historia\, cultura y ocio en un mismo lugar.
URL:https://galicia.info/event/la-reconquista-de-vigo-2026/
CATEGORIES:EventosRiasBaixas,EventosVigo
ATTACH;FMTTYPE=image/png:https://galicia.info/wp-content/uploads/2026/03/image-1-1.png
END:VEVENT
END:VCALENDAR