BEGIN:VCALENDAR
VERSION:2.0
PRODID:-//Galicia.info - ECPv6.15.20//NONSGML v1.0//EN
CALSCALE:GREGORIAN
METHOD:PUBLISH
X-WR-CALNAME:Galicia.info
X-ORIGINAL-URL:https://galicia.info
X-WR-CALDESC:Eventos para Galicia.info
REFRESH-INTERVAL;VALUE=DURATION:PT1H
X-Robots-Tag:noindex
X-PUBLISHED-TTL:PT1H
BEGIN:VTIMEZONE
TZID:Europe/Paris
BEGIN:DAYLIGHT
TZOFFSETFROM:+0100
TZOFFSETTO:+0200
TZNAME:CEST
DTSTART:20250330T010000
END:DAYLIGHT
BEGIN:STANDARD
TZOFFSETFROM:+0200
TZOFFSETTO:+0100
TZNAME:CET
DTSTART:20251026T010000
END:STANDARD
BEGIN:DAYLIGHT
TZOFFSETFROM:+0100
TZOFFSETTO:+0200
TZNAME:CEST
DTSTART:20260329T010000
END:DAYLIGHT
BEGIN:STANDARD
TZOFFSETFROM:+0200
TZOFFSETTO:+0100
TZNAME:CET
DTSTART:20261025T010000
END:STANDARD
BEGIN:DAYLIGHT
TZOFFSETFROM:+0100
TZOFFSETTO:+0200
TZNAME:CEST
DTSTART:20270328T010000
END:DAYLIGHT
BEGIN:STANDARD
TZOFFSETFROM:+0200
TZOFFSETTO:+0100
TZNAME:CET
DTSTART:20271031T010000
END:STANDARD
END:VTIMEZONE
BEGIN:VEVENT
DTSTART;TZID=Europe/Paris:20260515T210000
DTEND;TZID=Europe/Paris:20260516T230000
DTSTAMP:20260424T173521
CREATED:20260316T102829Z
LAST-MODIFIED:20260316T102829Z
UID:15818-1778878800-1778972400@galicia.info
SUMMARY:Dani Martín celebra 25 años de música en A Coruña
DESCRIPTION:Dani Martín celebra 25 años de música en A Coruña\nEl cantante Dani Martín llegará a A Coruña con dos conciertos muy especiales dentro de su gira “25 PTS Años Tour”\, con la que celebra 25 años de trayectoria musical. \nLas actuaciones tendrán lugar el viernes 15 y el sábado 16 de mayo de 2026 en el Coliseum de A Coruña\, uno de los principales recintos para conciertos en Galicia. \nEl público podrá disfrutar de un espectáculo cargado de emoción\, energía y nostalgia\, donde el artista repasará las canciones que han marcado a toda una generación. \n📍 LugarColiseum de A Coruña \n📅 Fechas15 y 16 de mayo de 2026 \n⏰ Hora21:00 horas \n🏁 Final aproximado22:45 – 23:00 horas \n“25 PTS Años Tour”: un espectáculo único\nLa gira “25 PTS Años Tour” celebra los 25 años de carrera musical de Dani Martín\, repasando los momentos más importantes de su trayectoria. \nDurante el concierto\, el artista interpretará grandes éxitos tanto de su etapa con El Canto del Loco como de su carrera en solitario. \nCanciones que marcaron a toda una generación volverán a sonar en directo\, en un espectáculo pensado para que el público cante\, recuerde y disfrute de cada momento. \nLa puesta en escena combinará efectos visuales\, iluminación dinámica y momentos íntimos\, logrando que cada actuación sea especial y cercana. \nColiseum de A Coruña: escenario ideal para grandes conciertos\nEl Coliseum de A Coruña es uno de los recintos musicales más importantes de Galicia. \nCon capacidad para más de 10.000 espectadores en formato concierto\, este espacio ha acogido numerosas giras nacionales e internacionales a lo largo de los años. \nSu excelente acústica y su ubicación en la ciudad lo convierten en un escenario perfecto para espectáculos de gran formato. \nAdemás\, visitar A Coruña permite disfrutar de su cultura\, su paseo marítimo y su reconocida gastronomía. \nEntradas para Dani Martín en A Coruña\nLas entradas para los conciertos de Dani Martín en A Coruña estarán disponibles a través de plataformas oficiales de venta de entradas y canales autorizados. \nSe espera una gran demanda debido al carácter especial de esta gira\, por lo que se recomienda adquirir las entradas con antelación para asegurar plaza en el recinto. \nUn concierto para celebrar 25 años de música\nAsistir al “25 PTS Años Tour” es una oportunidad única para revivir los grandes momentos de la carrera de Dani Martín. \nLos conciertos de los días 15 y 16 de mayo de 2026 en A Coruña prometen emoción\, nostalgia y una gran conexión entre el artista y el público\, en dos noches que quedarán en la memoria de todos los asistentes.
URL:https://galicia.info/event/dani-martin-celebra-25-anos-de-musica-en-a-coruna/
CATEGORIES:EventosACoruña,EventosRiasAltas
ATTACH;FMTTYPE=image/jpeg:https://galicia.info/wp-content/uploads/2026/03/00-00089cT.jpg
END:VEVENT
END:VCALENDAR