BEGIN:VCALENDAR
VERSION:2.0
PRODID:-//Galicia.info - ECPv6.15.20//NONSGML v1.0//EN
CALSCALE:GREGORIAN
METHOD:PUBLISH
X-WR-CALNAME:Galicia.info
X-ORIGINAL-URL:https://galicia.info
X-WR-CALDESC:Eventos para Galicia.info
REFRESH-INTERVAL;VALUE=DURATION:PT1H
X-Robots-Tag:noindex
X-PUBLISHED-TTL:PT1H
BEGIN:VTIMEZONE
TZID:Europe/Paris
BEGIN:DAYLIGHT
TZOFFSETFROM:+0100
TZOFFSETTO:+0200
TZNAME:CEST
DTSTART:20250330T010000
END:DAYLIGHT
BEGIN:STANDARD
TZOFFSETFROM:+0200
TZOFFSETTO:+0100
TZNAME:CET
DTSTART:20251026T010000
END:STANDARD
BEGIN:DAYLIGHT
TZOFFSETFROM:+0100
TZOFFSETTO:+0200
TZNAME:CEST
DTSTART:20260329T010000
END:DAYLIGHT
BEGIN:STANDARD
TZOFFSETFROM:+0200
TZOFFSETTO:+0100
TZNAME:CET
DTSTART:20261025T010000
END:STANDARD
BEGIN:DAYLIGHT
TZOFFSETFROM:+0100
TZOFFSETTO:+0200
TZNAME:CEST
DTSTART:20270328T010000
END:DAYLIGHT
BEGIN:STANDARD
TZOFFSETFROM:+0200
TZOFFSETTO:+0100
TZNAME:CET
DTSTART:20271031T010000
END:STANDARD
END:VTIMEZONE
BEGIN:VEVENT
DTSTART;TZID=Europe/Paris:20260510T200000
DTEND;TZID=Europe/Paris:20260510T200000
DTSTAMP:20260424T122424
CREATED:20260119T173019Z
LAST-MODIFIED:20260119T173207Z
UID:15045-1778443200-1778443200@galicia.info
SUMMARY:Concierto: Edwyn Collins en Santiago de Compostela
DESCRIPTION:El reconocido cantante y compositor Edwyn Collins llega a Santiago de Compostela para ofrecer un concierto íntimo y acústico.La cita será el 10 de mayo de 2026 a las 20:00 horas en la Sala Capitol. \nEste concierto permitirá disfrutar de las canciones de Collins en un formato más cercano\, donde cada tema se presenta con todos sus matices y la interpretación cobra un protagonismo especial.El artista ofrecerá un recorrido por su repertorio más emblemático\, interpretando clásicos y nuevas canciones con un enfoque directo y emocional. \nLas entradas estarán disponibles próximamente\, garantizando el acceso a uno de los eventos más esperados de la música en Galicia en 2026. \n\nLugar: Sala Capitol\, Santiago de CompostelaFecha: 10 de mayo de 2026Hora: 20:00 horas \n\n🎤 Música desnuda y emocional\nEl concierto acústico de Edwyn Collins destaca por su intimidad y cercanía con el público.En este formato\, la atención se centra en la voz\, la guitarra y la escritura de las canciones\, dejando que cada tema respire. \nLa interpretación en directo permite apreciar la sensibilidad y el oficio de toda su carrera\, haciendo de cada canción un momento único y memorable.Los asistentes vivirán la música desde una perspectiva más profunda\, donde cada nota y cada letra cobran un significado especial. \n\n🎸 Una experiencia única para los seguidores\nEdwyn Collins es conocido por fusionar emoción\, técnica y elegancia en sus conciertos.Esta actuación acústica en la Sala Capitol será una oportunidad para disfrutar de su música de manera directa y personal\, en un espacio íntimo que favorece la conexión con el público. \nSus clásicos y composiciones recientes se reinterpretan en este formato\, destacando la autenticidad y el carácter emocional de cada canción.Cada interpretación convierte el concierto en un encuentro cercano\, casi privado\, con la esencia del artista. \n\n🌆 Santiago de Compostela como escenario musical\nLa Sala Capitol es uno de los espacios más destacados de Santiago de Compostela para conciertos en directo.Su acústica\, cercanía y ambiente acogedor permiten que los artistas puedan ofrecer un espectáculo intenso y personal. \nSantiago de Compostela se consolida así como un punto de referencia musical en Galicia\, capaz de acoger tanto grandes producciones como conciertos íntimos de artistas internacionales. \nEn definitiva\, el concierto acústico de Edwyn Collins en Santiago de Compostela será una cita imprescindible.Una oportunidad para vivir música auténtica\, cercanía y emoción en un entorno único y exclusivo.
URL:https://galicia.info/event/concierto-edwyn-collins-en-santiago-de-compostela/
CATEGORIES:EventosRiasAltas,EventosSantiagodeCompostela
ATTACH;FMTTYPE=image/png:https://galicia.info/wp-content/uploads/2026/01/edwyncollins.png
END:VEVENT
END:VCALENDAR