BEGIN:VCALENDAR
VERSION:2.0
PRODID:-//Galicia.info - ECPv6.15.20//NONSGML v1.0//EN
CALSCALE:GREGORIAN
METHOD:PUBLISH
X-ORIGINAL-URL:https://galicia.info
X-WR-CALDESC:Eventos para Galicia.info
REFRESH-INTERVAL;VALUE=DURATION:PT1H
X-Robots-Tag:noindex
X-PUBLISHED-TTL:PT1H
BEGIN:VTIMEZONE
TZID:Europe/Paris
BEGIN:DAYLIGHT
TZOFFSETFROM:+0100
TZOFFSETTO:+0200
TZNAME:CEST
DTSTART:20250330T010000
END:DAYLIGHT
BEGIN:STANDARD
TZOFFSETFROM:+0200
TZOFFSETTO:+0100
TZNAME:CET
DTSTART:20251026T010000
END:STANDARD
BEGIN:DAYLIGHT
TZOFFSETFROM:+0100
TZOFFSETTO:+0200
TZNAME:CEST
DTSTART:20260329T010000
END:DAYLIGHT
BEGIN:STANDARD
TZOFFSETFROM:+0200
TZOFFSETTO:+0100
TZNAME:CET
DTSTART:20261025T010000
END:STANDARD
BEGIN:DAYLIGHT
TZOFFSETFROM:+0100
TZOFFSETTO:+0200
TZNAME:CEST
DTSTART:20270328T010000
END:DAYLIGHT
BEGIN:STANDARD
TZOFFSETFROM:+0200
TZOFFSETTO:+0100
TZNAME:CET
DTSTART:20271031T010000
END:STANDARD
END:VTIMEZONE
BEGIN:VEVENT
DTSTART;TZID=Europe/Paris:20260506T170000
DTEND;TZID=Europe/Paris:20260509T230000
DTSTAMP:20260420T111530
CREATED:20260406T111305Z
LAST-MODIFIED:20260406T111305Z
UID:16173-1778086800-1778367600@galicia.info
SUMMARY:Facela Festival 2026 Lugo 6 de mayo: música en directo y ambiente festivo
DESCRIPTION:Facela Festival 2026 Lugo 6 de mayo: música en directo y ambiente festivo\nEl 6 de mayo de 2026\, Lugo acogerá el Facela Festival 2026\, una jornada dedicada a la música en directo con artistas de estilos como indie pop\, indie rock y sonidos alternativos\, reuniendo a bandas y músicos tanto emergentes como consagrados. \nEste evento se celebra con el objetivo de revitalizar la escena musical local y ofrecer al público una experiencia musical diversa en un entorno festivo y animado\, ideal para los amantes de los conciertos y los ambientes de festival. \n\nFecha y ubicación del festival\nInformación clave del evento: \n\nEvento: Facela Festival 2026\nFecha: 6 de mayo de 2026\nLugar: Varios recintos de Lugo (programación en salas y espacios adaptados)\nCiudad: Lugo\, Galicia 🇪🇸\n\nEl Facela Festival se caracteriza por aprovechar diferentes espacios de la ciudad para ofrecer conciertos y actividades musicales que conectan con públicos variados y fomentan la escena cultural local. \n\nQué esperar del festival\nLos asistentes podrán disfrutar de: \n\nActuaciones en directo de bandas de indie pop\, indie rock y estilos alternativos\nUn ambiente festivalero con programación continua durante el día\nOportunidades para descubrir nuevos talentos musicales\nConexiones entre artistas y público en un entorno urbano vibrante\n\nEste tipo de festivales suelen combinar música con actividades complementarias como talleres\, encuentros con artistas y propuestas gastronómicas o de ocio. \n\nHorario y recomendaciones\nAunque el horario oficial aún puede variar y se confirmará más cerca de la fecha\, este tipo de festivales normalmente sigue esta estructura: \n\n17:00 — Apertura de puertas y ambiente musical previo\n17:30 – 22:30 — Actuaciones musicales por grupos o artistas\n23:00 — Cierre previsto de las actuaciones principales\n\nSe recomienda llegar con antelación para disfrutar de todas las actuaciones y de la atmósfera del festival desde el inicio. \n\nEntradas\nLas entradas para el Facela Festival suelen estar disponibles en plataformas de venta online y en puntos autorizados de Lugo. Debido a su formato y programación\, se recomienda adquirirlas con antelación para asegurar asistencia. \n\nLugo\, ciudad musical\nEventos como el Facela Festival refuerzan la escena musical en Lugo\, complementando otros conciertos y festivales a lo largo del año\, desde actuaciones en salas hasta grandes festivales de verano.
URL:https://galicia.info/event/facela-festival-2026-lugo-6-de-mayo-musica-en-directo-y-ambiente-festivo/
CATEGORIES:EventosLugo,EventosRiasAltas
ATTACH;FMTTYPE=image/jpeg:https://galicia.info/wp-content/uploads/2026/04/facela-fest-2026.jpg
END:VEVENT
BEGIN:VEVENT
DTSTART;TZID=Europe/Paris:20260509T200000
DTEND;TZID=Europe/Paris:20260509T223000
DTSTAMP:20260420T111530
CREATED:20260407T070220Z
LAST-MODIFIED:20260407T070346Z
UID:16183-1778356800-1778365800@galicia.info
SUMMARY:Quique González concierto Lugo 9 de mayo 2026: gira “1973” en directo
DESCRIPTION:Quique González concierto Lugo 9 de mayo 2026: gira “1973” en directo\nEl 9 de mayo de 2026\, el reconocido cantautor español Quique González actuará en el Auditorio Fuxan os Ventos con su espectáculo “1973”\, una propuesta que recorre su trayectoria musical con madurez\, honestidad y una conexión única con el público. \nA sus 51 años\, el artista llega a Lugo tras consolidar una carrera marcada por la evolución constante\, habiendo compartido escenario con figuras como Bob Dylan\, Steve Earle o Ryan Adams\, y firmando canciones emblemáticas del pop-rock español. \n\nFecha y ubicación del concierto\nInformación clave del evento: \n\nEvento: Quique González – “1973”\nFecha: 9 de mayo de 2026\nHora: 20:30\nLugar: Auditorio Fuxan os Ventos\nCiudad: Lugo\n\nEl Auditorio Fuxan os Ventos es un espacio cultural moderno\, con excelente acústica y visibilidad\, ideal para conciertos de formato íntimo y cercano. \n\nQué esperar del concierto\nEste concierto ofrecerá una experiencia completa para los seguidores del artista\, con: \n\nInterpretación de clásicos como Aunque tú no lo sepas\, Vidas cruzadas o La luna debajo del brazo\nRepaso por discos clave como Salitre 48\, Kamikazes Enamorados o Daiquiri Blues\nCanciones de sus trabajos más recientes\, incluyendo su etapa más madura\nUn directo emocional\, cercano y con gran calidad musical\n\nEl espectáculo “1973” refleja la evolución de Quique González\, combinando la esencia del songwriter americano con la sensibilidad del pop-rock español. \n\nHorario y recomendaciones\nEl evento tiene el siguiente horario: \n\n20:00 — Apertura de puertas\n20:30 — Inicio del concierto\n22:30 — Final previsto\n\nSe recomienda llegar con antelación para acceder con tranquilidad y disfrutar del ambiente previo al concierto. \n\nEntradas\n\nPrecio desde: 29\,70 €\nDisponibles en plataformas oficiales de venta y puntos autorizados\n\nSe aconseja comprarlas con antelación\, ya que este tipo de conciertos en auditorio suele tener aforo limitado. \n\nLugo\, música de calidad en directo\nLa presencia de Quique González en Lugo refuerza la apuesta de la ciudad por conciertos de calidad en espacios culturales\, ofreciendo propuestas íntimas que destacan por su valor artístico y cercanía.
URL:https://galicia.info/event/quique-gonzalez-concierto-lugo-9-de-mayo-2026-gira-1973-en-directo/
CATEGORIES:EventosLugo,EventosRiasAltas
ATTACH;FMTTYPE=image/avif:https://galicia.info/wp-content/uploads/2026/04/public-29.avif
END:VEVENT
END:VCALENDAR