BEGIN:VCALENDAR
VERSION:2.0
PRODID:-//Galicia.info - ECPv6.15.20//NONSGML v1.0//EN
CALSCALE:GREGORIAN
METHOD:PUBLISH
X-ORIGINAL-URL:https://galicia.info
X-WR-CALDESC:Eventos para Galicia.info
REFRESH-INTERVAL;VALUE=DURATION:PT1H
X-Robots-Tag:noindex
X-PUBLISHED-TTL:PT1H
BEGIN:VTIMEZONE
TZID:Europe/Paris
BEGIN:DAYLIGHT
TZOFFSETFROM:+0100
TZOFFSETTO:+0200
TZNAME:CEST
DTSTART:20250330T010000
END:DAYLIGHT
BEGIN:STANDARD
TZOFFSETFROM:+0200
TZOFFSETTO:+0100
TZNAME:CET
DTSTART:20251026T010000
END:STANDARD
BEGIN:DAYLIGHT
TZOFFSETFROM:+0100
TZOFFSETTO:+0200
TZNAME:CEST
DTSTART:20260329T010000
END:DAYLIGHT
BEGIN:STANDARD
TZOFFSETFROM:+0200
TZOFFSETTO:+0100
TZNAME:CET
DTSTART:20261025T010000
END:STANDARD
BEGIN:DAYLIGHT
TZOFFSETFROM:+0100
TZOFFSETTO:+0200
TZNAME:CEST
DTSTART:20270328T010000
END:DAYLIGHT
BEGIN:STANDARD
TZOFFSETFROM:+0200
TZOFFSETTO:+0100
TZNAME:CET
DTSTART:20271031T010000
END:STANDARD
END:VTIMEZONE
BEGIN:VEVENT
DTSTART;TZID=Europe/Paris:20260326T203000
DTEND;TZID=Europe/Paris:20260326T203000
DTSTAMP:20260422T133943
CREATED:20260216T120408Z
LAST-MODIFIED:20260216T120408Z
UID:15229-1774557000-1774557000@galicia.info
SUMMARY:Concierto: Luz Casal en Santiago de Compostela
DESCRIPTION:Luz Casal llega a Santiago de Compostela con su gira “Me voy a permitir”\nLa reconocida cantante gallega Luz Casal presentará su directo “Me voy a permitir” en el Palacio de Congresos y Exposiciones de Santiago de Compostela el jueves 26 de marzo de 2026 a las 20:30 horas. \nEste concierto será una oportunidad única para disfrutar de su voz en vivo\, combinando sus temas más recientes con los clásicos que han marcado su carrera\, interpretados de manera intensa y cercana. \n\nQué esperar del espectáculo\nDurante la actuación\, Luz Casal alternará: \nCanciones nuevas de su gira “Me voy a permitir”\, mostrando su etapa más libre y personal. \nClásicos emblemáticos\, interpretados con la fuerza y emoción que caracterizan sus directos. \nUna experiencia directa y envolvente para el público\, en la que la voz y la interpretación son protagonistas. \nEl concierto promete ser un recorrido musical que combina nostalgia y novedades\, ideal tanto para fans de toda la vida como para nuevos seguidores. \n\nInformación clave\nArtista: Luz Casal \nFecha: Jueves\, 26 de marzo de 2026 \nHora: 20:30 h \nLugar: Palacio de Congresos y Exposiciones\, Santiago de Compostela \nEntradas: disponibles con acceso anticipado; se requiere entrada para asistir \n\nResumen\nEl concierto de Luz Casal en Santiago de Compostela 2026 es una cita imprescindible para los amantes de la música española y la voz de una de las artistas más emblemáticas de Galicia. Con su gira “Me voy a permitir”\, Luz Casal promete un espectáculo íntimo\, emotivo y potente\, combinando temas nuevos y clásicos en directo en un entorno espectacular como es el Palacio de Congresos y Exposiciones de Santiago de Compostela.
URL:https://galicia.info/event/concierto-luz-casal-en-santiago-de-compostela/
CATEGORIES:EventosRiasAltas,EventosSantiagodeCompostela
ATTACH;FMTTYPE=image/jpeg:https://galicia.info/wp-content/uploads/2026/02/luz-casal.jpg
END:VEVENT
END:VCALENDAR