BEGIN:VCALENDAR
VERSION:2.0
PRODID:-//Galicia.info - ECPv6.15.20//NONSGML v1.0//EN
CALSCALE:GREGORIAN
METHOD:PUBLISH
X-ORIGINAL-URL:https://galicia.info
X-WR-CALDESC:Eventos para Galicia.info
REFRESH-INTERVAL;VALUE=DURATION:PT1H
X-Robots-Tag:noindex
X-PUBLISHED-TTL:PT1H
BEGIN:VTIMEZONE
TZID:Europe/Paris
BEGIN:DAYLIGHT
TZOFFSETFROM:+0100
TZOFFSETTO:+0200
TZNAME:CEST
DTSTART:20250330T010000
END:DAYLIGHT
BEGIN:STANDARD
TZOFFSETFROM:+0200
TZOFFSETTO:+0100
TZNAME:CET
DTSTART:20251026T010000
END:STANDARD
BEGIN:DAYLIGHT
TZOFFSETFROM:+0100
TZOFFSETTO:+0200
TZNAME:CEST
DTSTART:20260329T010000
END:DAYLIGHT
BEGIN:STANDARD
TZOFFSETFROM:+0200
TZOFFSETTO:+0100
TZNAME:CET
DTSTART:20261025T010000
END:STANDARD
BEGIN:DAYLIGHT
TZOFFSETFROM:+0100
TZOFFSETTO:+0200
TZNAME:CEST
DTSTART:20270328T010000
END:DAYLIGHT
BEGIN:STANDARD
TZOFFSETFROM:+0200
TZOFFSETTO:+0100
TZNAME:CET
DTSTART:20271031T010000
END:STANDARD
END:VTIMEZONE
BEGIN:VEVENT
DTSTART;TZID=Europe/Paris:20260317T180000
DTEND;TZID=Europe/Paris:20260317T193000
DTSTAMP:20260423T051615
CREATED:20260317T083110Z
LAST-MODIFIED:20260317T083146Z
UID:15831-1773770400-1773775800@galicia.info
SUMMARY:El amor es más frío que la muerte en A Coruña
DESCRIPTION: Proyección de El amor es más frío que la muerte en A Coruña\nLa Centro Galego de Artes da Imaxe (Filmoteca de Galicia) proyectará esta obra clave del cine alemán dirigida por Rainer Werner Fassbinder\, una de las figuras esenciales del Nuevo Cine Alemán. \nEstrenada en 1969\, la película está considerada un clásico del cine de autor por su estética noir\, su narrativa provocadora y su estilo visual inconfundible. Se trata de la ópera prima de Fassbinder\, donde ya aparecen los elementos que marcarían toda su filmografía. \nEl filme sigue a Franz Walsh\, un delincuente que se ve envuelto en una trama criminal junto al enigmático Bruno\, explorando temas como la traición\, el deseo y la violencia en un entorno frío y minimalista. \n Sobre Fassbinder\nRainer Werner Fassbinder (1945–1982) fue uno de los directores más influyentes del cine europeo. Su obra destaca por retratar conflictos sociales y emocionales con personajes complejos. \nEntre sus títulos más conocidos: \n\n\nAli: Fear Eats the Soul (1974) \n\n\nEl matrimonio de Maria Braun (1979) \n\n\nQuerelle (1982) \n\n\n Una experiencia en pantalla grande\nLa Centro Galego de Artes da Imaxe permite disfrutar de este clásico en versión original y con gran calidad audiovisual\, además de contextualización cultural. \n📍 Lugar\nFilmoteca de Galicia\, A Coruña \n📅 Fecha\n17 de marzo de 2026 \n🕕 Hora\n18:00 horas \nEntradas\nLas entradas se adquieren directamente en taquilla: \n\n\n💶 Precio general: 1\,20 € \n\n\n🎫 Carné joven: 0\,60 € \n\n\n🎟️ Abono (10 sesiones): 9 € \n\n\n⏰ Venta: desde 20 minutos antes de la sesión \n\n\n⚠️ No hay venta anticipada \n\n\nSe recomienda llegar con tiempo\, ya que el aforo es limitado y no se permite el acceso una vez comenzada la proyección.
URL:https://galicia.info/event/15831/
CATEGORIES:EventosACoruña,EventosRiasAltas
ATTACH;FMTTYPE=image/jpeg:https://galicia.info/wp-content/uploads/2026/03/liebe_ist_kalter.jpg
END:VEVENT
END:VCALENDAR