BEGIN:VCALENDAR
VERSION:2.0
PRODID:-//Galicia.info - ECPv6.15.20//NONSGML v1.0//EN
CALSCALE:GREGORIAN
METHOD:PUBLISH
X-ORIGINAL-URL:https://galicia.info
X-WR-CALDESC:Eventos para Galicia.info
REFRESH-INTERVAL;VALUE=DURATION:PT1H
X-Robots-Tag:noindex
X-PUBLISHED-TTL:PT1H
BEGIN:VTIMEZONE
TZID:Europe/Paris
BEGIN:DAYLIGHT
TZOFFSETFROM:+0100
TZOFFSETTO:+0200
TZNAME:CEST
DTSTART:20250330T010000
END:DAYLIGHT
BEGIN:STANDARD
TZOFFSETFROM:+0200
TZOFFSETTO:+0100
TZNAME:CET
DTSTART:20251026T010000
END:STANDARD
BEGIN:DAYLIGHT
TZOFFSETFROM:+0100
TZOFFSETTO:+0200
TZNAME:CEST
DTSTART:20260329T010000
END:DAYLIGHT
BEGIN:STANDARD
TZOFFSETFROM:+0200
TZOFFSETTO:+0100
TZNAME:CET
DTSTART:20261025T010000
END:STANDARD
BEGIN:DAYLIGHT
TZOFFSETFROM:+0100
TZOFFSETTO:+0200
TZNAME:CEST
DTSTART:20270328T010000
END:DAYLIGHT
BEGIN:STANDARD
TZOFFSETFROM:+0200
TZOFFSETTO:+0100
TZNAME:CET
DTSTART:20271031T010000
END:STANDARD
END:VTIMEZONE
BEGIN:VEVENT
DTSTART;TZID=Europe/Paris:20260307T183000
DTEND;TZID=Europe/Paris:20260307T203000
DTSTAMP:20260423T232227
CREATED:20260216T114445Z
LAST-MODIFIED:20260216T114608Z
UID:15219-1772908200-1772915400@galicia.info
SUMMARY:Concierto: Carlos Nuñez en Viveiro
DESCRIPTION:Carlos Núñez celebra 30 años de música en Viveiro\nEl sábado 7 de marzo de 2026\, el reconocido gaitero gallego Carlos Núñez ofrecerá un concierto único en la Iglesia de San Francisco de Viveiro. Debido a la alta expectación\, habrá dos pases\, a las 18:30 h y 20:30 h\, para garantizar que todos los asistentes puedan disfrutar de su música. \nEl espectáculo forma parte del programa cultural ADRAL\, y las entradas son limitadas debido al aforo reducido del templo\, lo que garantiza una experiencia íntima y cercana con el artista. \n\n“A Irmandade das Estrelas – 30 Aniversario”\nEn esta cita\, Carlos Núñez presentará su espectáculo “A Irmandade das Estrelas – 30 Aniversario”\, que celebra tres décadas de carrera musical: \n\n\nTradición y modernidad: combina el sonido característico de la gaita con arreglos contemporáneos. \n\n\nExperiencia íntima: la acústica de la Iglesia de San Francisco permite disfrutar de cada matiz de la música. \n\n\nRepertorio especial: el público podrá reencontrarse con sus grandes temas y con nuevas propuestas interpretadas especialmente para la ocasión. \n\n\nEl concierto promete ser emocionante y envolvente\, ideal para amantes de la música gallega y seguidores de la trayectoria del gaitero. \n\nInformación del evento\n\n\nLugar: Iglesia de San Francisco\, Viveiro \n\n\nFecha y hora: Sábado 7 de marzo de 2026\, 18:30 h y 20:30 h \n\n\nEntradas: Necesarias y con aforo limitado; se recomienda comprarlas con antelación \n\n\nEste evento es una ocasión única para vivir un concierto de alta calidad musical en un entorno histórico y lleno de magia. \n\nPor qué asistir\nAsistir al concierto de Carlos Núñez en Viveiro permite: \n\n\nExperimentar un espectáculo íntimo y exclusivo en un templo histórico. \n\n\nDisfrutar de 30 años de música gallega\, con arreglos contemporáneos y emoción en cada tema. \n\n\nParticipar en uno de los conciertos centrales del programa ADRAL\, destacando por su calidad y singularidad. \n\n\nUn evento imprescindible para fans de la música tradicional gallega y quienes buscan experiencias culturales únicas en Galicia.
URL:https://galicia.info/event/concierto-carlos-nunez-en-viveiro/
CATEGORIES:EventosACoruña,EventosLugo,EventosRiasAltas
ATTACH;FMTTYPE=image/jpeg:https://galicia.info/wp-content/uploads/2025/06/gaiteiro-carlos-nunez-600x365-1.jpg
END:VEVENT
END:VCALENDAR