BEGIN:VCALENDAR
VERSION:2.0
PRODID:-//Galicia.info - ECPv6.15.20//NONSGML v1.0//EN
CALSCALE:GREGORIAN
METHOD:PUBLISH
X-WR-CALNAME:Galicia.info
X-ORIGINAL-URL:https://galicia.info
X-WR-CALDESC:Eventos para Galicia.info
REFRESH-INTERVAL;VALUE=DURATION:PT1H
X-Robots-Tag:noindex
X-PUBLISHED-TTL:PT1H
BEGIN:VTIMEZONE
TZID:Europe/Paris
BEGIN:DAYLIGHT
TZOFFSETFROM:+0100
TZOFFSETTO:+0200
TZNAME:CEST
DTSTART:20250330T010000
END:DAYLIGHT
BEGIN:STANDARD
TZOFFSETFROM:+0200
TZOFFSETTO:+0100
TZNAME:CET
DTSTART:20251026T010000
END:STANDARD
BEGIN:DAYLIGHT
TZOFFSETFROM:+0100
TZOFFSETTO:+0200
TZNAME:CEST
DTSTART:20260329T010000
END:DAYLIGHT
BEGIN:STANDARD
TZOFFSETFROM:+0200
TZOFFSETTO:+0100
TZNAME:CET
DTSTART:20261025T010000
END:STANDARD
BEGIN:DAYLIGHT
TZOFFSETFROM:+0100
TZOFFSETTO:+0200
TZNAME:CEST
DTSTART:20270328T010000
END:DAYLIGHT
BEGIN:STANDARD
TZOFFSETFROM:+0200
TZOFFSETTO:+0100
TZNAME:CET
DTSTART:20271031T010000
END:STANDARD
END:VTIMEZONE
BEGIN:VEVENT
DTSTART;TZID=Europe/Paris:20260306T220000
DTEND;TZID=Europe/Paris:20260306T220000
DTSTAMP:20260424T010847
CREATED:20260119T182143Z
LAST-MODIFIED:20260119T182143Z
UID:15066-1772834400-1772834400@galicia.info
SUMMARY:Concierto: Barry B en A Coruña
DESCRIPTION:El joven artista Barry B llega a A Coruña para ofrecer uno de los primeros conciertos de su Infancia Mal Calibrada Tour en Galicia.La cita será el 6 de marzo de 2026 en la Sala Inn Club de A Coruña\, dentro de la gira de presentación de su nuevo EP publicado el 26 de septiembre. \nEste concierto promete ser una experiencia intensa y cercana\, donde Barry B alternará sus nuevas canciones con temas que definieron su carrera\, consolidando su capacidad de conectar con el público.El artista se caracteriza por guitarras contundentes\, estribillos directos y letras confesionales\, combinando crudeza y melodía en un espectáculo muy personal.Las entradas ya están a la venta en artmusicagency.es\, garantizando acceso a una de las citas musicales más esperadas en A Coruña para los seguidores del pop-rock alternativo. \n\nLugar: Sala Inn Club\, A CoruñaFecha: 6 de marzo de 2026Hora: Por confirmar \n\n🎤 Un directo intenso y cercano\nEn sus conciertos\, Barry B transmite la esencia de sus canciones con fuerza y sinceridad\, ofreciendo un espectáculo donde cada tema cobra vida.El formato de sala permite una proximidad máxima con el público\, haciendo que cada estribillo y cada acorde se sienta directo y emocionante.Los asistentes podrán disfrutar de un recorrido por su nuevo EP\, además de los temas que lo hicieron visible tras su primer disco Chato. \n\n🎸 Guitarras\, melodía y confesión\nEl estilo de Barry B combina guitarras enérgicas con melodías pegadizas\, sumado a letras que hablan desde la honestidad y la experiencia personal.Su directo se mueve entre intensidad\, crudeza y conexión emocional\, ofreciendo un espectáculo equilibrado y muy atractivo para los seguidores del género.La gira Infancia Mal Calibrada permite apreciar la evolución del artista y disfrutar de su capacidad interpretativa y carisma sobre el escenario. \n\n🌆 A Coruña como escenario alternativo\nLa Sala Inn Club se consolida como un espacio ideal para conciertos íntimos y cercanos en A Coruña.Su ambiente permite que artistas emergentes y consolidados presenten su música con máxima intensidad y contacto con el público.Barry B aprovechará este escenario para ofrecer uno de los primeros conciertos en Galicia de su nueva etapa\, convirtiéndolo en un evento imprescindible para sus fans.
URL:https://galicia.info/event/concierto-barry-b-en-a-coruna/
CATEGORIES:EventosACoruña,EventosRiasAltas
ATTACH;FMTTYPE=image/jpeg:https://galicia.info/wp-content/uploads/2026/01/barryb.jpg
END:VEVENT
END:VCALENDAR