BEGIN:VCALENDAR
VERSION:2.0
PRODID:-//Galicia.info - ECPv6.15.20//NONSGML v1.0//EN
CALSCALE:GREGORIAN
METHOD:PUBLISH
X-WR-CALNAME:Galicia.info
X-ORIGINAL-URL:https://galicia.info
X-WR-CALDESC:Eventos para Galicia.info
REFRESH-INTERVAL;VALUE=DURATION:PT1H
X-Robots-Tag:noindex
X-PUBLISHED-TTL:PT1H
BEGIN:VTIMEZONE
TZID:Europe/Paris
BEGIN:DAYLIGHT
TZOFFSETFROM:+0100
TZOFFSETTO:+0200
TZNAME:CEST
DTSTART:20250330T010000
END:DAYLIGHT
BEGIN:STANDARD
TZOFFSETFROM:+0200
TZOFFSETTO:+0100
TZNAME:CET
DTSTART:20251026T010000
END:STANDARD
BEGIN:DAYLIGHT
TZOFFSETFROM:+0100
TZOFFSETTO:+0200
TZNAME:CEST
DTSTART:20260329T010000
END:DAYLIGHT
BEGIN:STANDARD
TZOFFSETFROM:+0200
TZOFFSETTO:+0100
TZNAME:CET
DTSTART:20261025T010000
END:STANDARD
BEGIN:DAYLIGHT
TZOFFSETFROM:+0100
TZOFFSETTO:+0200
TZNAME:CEST
DTSTART:20270328T010000
END:DAYLIGHT
BEGIN:STANDARD
TZOFFSETFROM:+0200
TZOFFSETTO:+0100
TZNAME:CET
DTSTART:20271031T010000
END:STANDARD
END:VTIMEZONE
BEGIN:VEVENT
DTSTART;TZID=Europe/Paris:20260227T000000
DTEND;TZID=Europe/Paris:20260301T235959
DTSTAMP:20260424T095433
CREATED:20260216T123731Z
LAST-MODIFIED:20260216T123753Z
UID:15251-1772150400-1772409599@galicia.info
SUMMARY:Festa do Queixo de Arzúa 2026
DESCRIPTION:51ª Festa do Queixo de Arzúa 2026\nLa 51ª Festa do Queixo de Arzúa tendrá lugar del viernes 27 de febrero al domingo 1 de marzo de 2026 en Arzúa (A Coruña)\, con el Recinto Feiral “Terra do Queixo” como epicentro del evento. Esta edición refuerza al municipio coruñés como referente de la cultura quesera gallega\, destacando la Denominación de Origen Arzúa-Ulloa. \nEl acceso a las actividades es gratuito\, y el mercado de exposición y venta abrirá sus puertas el sábado desde las 11:00h y el domingo desde las 10:00h. \n\nPrograma destacado\nViernes\, 27 de febrero\n\n\n18:00 h: Inicio del Concurso de Tapas e Petiscos en la hostelería local. \n\n\nEspectáculo infantil Pequequeixo. \n\n\nSábado\, 28 de febrero\n\n\n11:00 h: Apertura del Recinto Feiral. \n\n\nAnimación de calle durante toda la tarde. \n\n\nConciertos nocturnos: \n\n\nDogo – 20:30 h \n\n\nDulzaro – 21:15 h \n\n\nDorian – 22:25 h \n\n\nDakidarría – 00:10 h \n\n\nCool Nenas – 01:55 h \n\n\n\n\nDomingo\, 1 de marzo\n\n\n10:00 h: Apertura del recinto feiral. \n\n\nActividades destacadas: \n\n\n6º Torneo de Xadrez «Chess and Cheese» \n\n\nTalleres de cata de queso \n\n\nShowcookings con el chef Iván Domínguez \n\n\nSesión vermú con Budiño\, Ialma y MJ Pérez presentando su nuevo disco \n\n\n\n\n\nExperiencia gastronómica y cultural\nLa Festa do Queixo combina gastronomía\, tradición y entretenimiento. Los visitantes pueden degustar quesos de la DO Arzúa-Ulloa\, disfrutar de talleres\, concursos y showcookings\, y asistir a conciertos gratuitos con música para todos los gustos. Además\, la fiesta se complementa con animación de calle y actividades familiares. \n\nInformación práctica\n\n\nLugar: Recinto Feiral “Terra do Queixo”\, Rúa Tr.ª da Feira A\, Arzúa \n\n\nFechas: 27 de febrero – 1 de marzo de 2026 \n\n\nAcceso: Gratuito \n\n\nTransporte: Autobuses organizados desde ciudades cercanas como Pontevedra \n\n\nWeb oficial: Para horarios y novedades: Festa do Queixo de Arzúa
URL:https://galicia.info/event/festa-do-queixo-de-arzua-2026/
CATEGORIES:EventosACoruña,EventosRiasAltas
ATTACH;FMTTYPE=image/jpeg:https://galicia.info/wp-content/uploads/2026/02/festadoquerixoarzua.jpg
END:VEVENT
END:VCALENDAR