BEGIN:VCALENDAR
VERSION:2.0
PRODID:-//Galicia.info - ECPv6.15.20//NONSGML v1.0//EN
CALSCALE:GREGORIAN
METHOD:PUBLISH
X-WR-CALNAME:Galicia.info
X-ORIGINAL-URL:https://galicia.info
X-WR-CALDESC:Eventos para Galicia.info
REFRESH-INTERVAL;VALUE=DURATION:PT1H
X-Robots-Tag:noindex
X-PUBLISHED-TTL:PT1H
BEGIN:VTIMEZONE
TZID:Europe/Paris
BEGIN:DAYLIGHT
TZOFFSETFROM:+0100
TZOFFSETTO:+0200
TZNAME:CEST
DTSTART:20250330T010000
END:DAYLIGHT
BEGIN:STANDARD
TZOFFSETFROM:+0200
TZOFFSETTO:+0100
TZNAME:CET
DTSTART:20251026T010000
END:STANDARD
BEGIN:DAYLIGHT
TZOFFSETFROM:+0100
TZOFFSETTO:+0200
TZNAME:CEST
DTSTART:20260329T010000
END:DAYLIGHT
BEGIN:STANDARD
TZOFFSETFROM:+0200
TZOFFSETTO:+0100
TZNAME:CET
DTSTART:20261025T010000
END:STANDARD
BEGIN:DAYLIGHT
TZOFFSETFROM:+0100
TZOFFSETTO:+0200
TZNAME:CEST
DTSTART:20270328T010000
END:DAYLIGHT
BEGIN:STANDARD
TZOFFSETFROM:+0200
TZOFFSETTO:+0100
TZNAME:CET
DTSTART:20271031T010000
END:STANDARD
END:VTIMEZONE
BEGIN:VEVENT
DTSTART;TZID=Europe/Paris:20260522T000000
DTEND;TZID=Europe/Paris:20260524T235959
DTSTAMP:20260420T084649
CREATED:20250922T105806Z
LAST-MODIFIED:20250922T105806Z
UID:14069-1779408000-1779667199@galicia.info
SUMMARY:Festival: Ouren Sound Fest 2026
DESCRIPTION:Introducción\nEl Ouren Sound Fest regresa a Pereiro de Aguiar para su edición de 2026\, ofreciendo tres días de música\, actividades y cultura. El festival se celebrará del viernes 22 al domingo 24 de mayo\, prometiendo una experiencia completa para los amantes de la música y los festivales de verano en Galicia. \nDetalles del evento\n\n\nLugar: Pereiro de Aguiar \n\n\nFecha: 22\, 23 y 24 de mayo de 2026 \n\n\nHorario: Por confirmar \n\n\nUna experiencia musical única\nEl Ouren Sound Fest 2026 se presenta como una cita ineludible para los fans de la música en vivo. Aunque el cartel completo se anunciará próximamente\, el festival ha sido reconocido en ediciones anteriores por su variedad de estilos\, calidad de producción y ambiente único. \nLos asistentes podrán disfrutar de conciertos\, actividades culturales y momentos de convivencia que hacen del festival una experiencia emocionante y memorable. Este evento combina música de distintos géneros con espacios para ocio y gastronomía\, asegurando diversión para todo tipo de público. \nEntradas y abonos\nLos abonos para los tres días del festival estarán disponibles a partir del 1 de junio de 2025\, ofreciendo a los fans la oportunidad de asegurar su asistencia con anticipación. El acceso anticipado permitirá disfrutar de todas las actividades y conciertos que se desarrollarán durante las tres jornadas del festival. \nPereiro de Aguiar: un entorno ideal\nPereiro de Aguiar\, en la provincia de Ourense\, ofrece un entorno natural y accesible\, ideal para la celebración de festivales. Su infraestructura permite alojar a miles de asistentes y facilita la logística del evento\, combinando naturaleza\, cultura y música en un solo lugar. \nEl Ouren Sound Fest 2026 se perfila como un festival imprescindible en Galicia\, donde la música\, la cultura y la diversión se combinan para ofrecer a los asistentes una experiencia única e inolvidable.
URL:https://galicia.info/event/festival-ouren-sound-fest-2026/
CATEGORIES:EventosARibeiraSacra,EventosOurense
END:VEVENT
END:VCALENDAR