BEGIN:VCALENDAR
VERSION:2.0
PRODID:-//Galicia.info - ECPv6.15.20//NONSGML v1.0//EN
CALSCALE:GREGORIAN
METHOD:PUBLISH
X-WR-CALNAME:Galicia.info
X-ORIGINAL-URL:https://galicia.info
X-WR-CALDESC:Eventos para Galicia.info
REFRESH-INTERVAL;VALUE=DURATION:PT1H
X-Robots-Tag:noindex
X-PUBLISHED-TTL:PT1H
BEGIN:VTIMEZONE
TZID:Europe/Paris
BEGIN:DAYLIGHT
TZOFFSETFROM:+0100
TZOFFSETTO:+0200
TZNAME:CEST
DTSTART:20250330T010000
END:DAYLIGHT
BEGIN:STANDARD
TZOFFSETFROM:+0200
TZOFFSETTO:+0100
TZNAME:CET
DTSTART:20251026T010000
END:STANDARD
BEGIN:DAYLIGHT
TZOFFSETFROM:+0100
TZOFFSETTO:+0200
TZNAME:CEST
DTSTART:20260329T010000
END:DAYLIGHT
BEGIN:STANDARD
TZOFFSETFROM:+0200
TZOFFSETTO:+0100
TZNAME:CET
DTSTART:20261025T010000
END:STANDARD
BEGIN:DAYLIGHT
TZOFFSETFROM:+0100
TZOFFSETTO:+0200
TZNAME:CEST
DTSTART:20270328T010000
END:DAYLIGHT
BEGIN:STANDARD
TZOFFSETFROM:+0200
TZOFFSETTO:+0100
TZNAME:CET
DTSTART:20271031T010000
END:STANDARD
END:VTIMEZONE
BEGIN:VEVENT
DTSTART;TZID=Europe/Paris:20260327T000000
DTEND;TZID=Europe/Paris:20260329T235959
DTSTAMP:20260420T082838
CREATED:20260216T120823Z
LAST-MODIFIED:20260216T120823Z
UID:15231-1774569600-1774828799@galicia.info
SUMMARY:Feria del Vino de Amandi 2026 Sober
DESCRIPTION:XLVI Feria del Vino de Amandi 2026 en Sober\nEl municipio de Sober (Lugo) acoge del 27 al 29 de marzo de 2026 la XLVI Feria del Vino de Amandi\, declarada Fiesta de Interés Turístico de Galicia. Este evento\, uno de los más importantes de la región para la promoción de los vinos de la subzona de Amandi dentro de la D.O. Ribeira Sacra\, combina tradición\, cultura y enología en un programa pensado para todos los públicos. \nEste año\, la feria contará con un pregonero de excepción: Rafa Centeno\, reconocido chef cuyo restaurante Vértigo se ha convertido en el primero de la provincia de Lugo en recibir una estrella Michelin. \n\nQué esperar en la Feria del Vino de Amandi 2026\nAunque el programa completo se publicará próximamente\, los asistentes podrán disfrutar de actividades típicas de la feria: \n\n\nCatas y degustaciones de las bodegas locales\, muchas de ellas ubicadas en las laderas del río Sil\, dentro de la viticultura heroica. \n\n\nMúsica en directo\, pasacalles y baile\, que llenan de color y animación las calles del centro de Sober. \n\n\nConcursos y actividades culturales previas\, incluyendo la elección del cartel oficial de la feria. \n\n\nMás de 40 bodegas de la zona participando en años anteriores\, destacando Bodegas Rectoral de Amandi. \n\n\nLa feria se celebra principalmente en la Plaza del Ayuntamiento y calles del centro de Sober\, transformando el municipio en un punto de encuentro para los amantes del vino y la gastronomía gallega. \n\nInformación práctica\nFechas: 27\, 28 y 29 de marzo de 2026 \nLugar: Sober\, Lugo – Plaza del Ayuntamiento y calles del centro \nPregonero: Chef Rafa Centeno (restaurante Vértigo\, estrella Michelin) \nActividades: Catas\, degustaciones\, pasacalles\, música en directo\, baile y concursos \n\nLa Feria del Vino de Amandi 2026 es una cita imprescindible para quienes quieran descubrir los vinos de Ribeira Sacra\, disfrutar de la cultura gallega y vivir un fin de semana lleno de sabor\, música y tradición en pleno corazón de Lugo.
URL:https://galicia.info/event/feria-del-vino-de-amandi-2026-sober/
CATEGORIES:EventosARibeiraSacra,EventosLugo
ATTACH;FMTTYPE=image/jpeg:https://galicia.info/wp-content/uploads/2026/02/pexels-grape-things-2954924-scaled.jpg
END:VEVENT
END:VCALENDAR