BEGIN:VCALENDAR
VERSION:2.0
PRODID:-//Galicia.info - ECPv6.15.20//NONSGML v1.0//EN
CALSCALE:GREGORIAN
METHOD:PUBLISH
X-WR-CALNAME:Galicia.info
X-ORIGINAL-URL:https://galicia.info
X-WR-CALDESC:Eventos para Galicia.info
REFRESH-INTERVAL;VALUE=DURATION:PT1H
X-Robots-Tag:noindex
X-PUBLISHED-TTL:PT1H
BEGIN:VTIMEZONE
TZID:Europe/Paris
BEGIN:DAYLIGHT
TZOFFSETFROM:+0100
TZOFFSETTO:+0200
TZNAME:CEST
DTSTART:20250330T010000
END:DAYLIGHT
BEGIN:STANDARD
TZOFFSETFROM:+0200
TZOFFSETTO:+0100
TZNAME:CET
DTSTART:20251026T010000
END:STANDARD
BEGIN:DAYLIGHT
TZOFFSETFROM:+0100
TZOFFSETTO:+0200
TZNAME:CEST
DTSTART:20260329T010000
END:DAYLIGHT
BEGIN:STANDARD
TZOFFSETFROM:+0200
TZOFFSETTO:+0100
TZNAME:CET
DTSTART:20261025T010000
END:STANDARD
BEGIN:DAYLIGHT
TZOFFSETFROM:+0100
TZOFFSETTO:+0200
TZNAME:CEST
DTSTART:20270328T010000
END:DAYLIGHT
BEGIN:STANDARD
TZOFFSETFROM:+0200
TZOFFSETTO:+0100
TZNAME:CET
DTSTART:20271031T010000
END:STANDARD
END:VTIMEZONE
BEGIN:VEVENT
DTSTART;TZID=Europe/Paris:20260222T000000
DTEND;TZID=Europe/Paris:20260222T000000
DTSTAMP:20260420T082248
CREATED:20260119T183648Z
LAST-MODIFIED:20260119T183648Z
UID:15073-1771718400-1771718400@galicia.info
SUMMARY:Fiesta: XXXI Fiesta de la Cachucha en O Carballiño
DESCRIPTION:La Fiesta de la Cachucha regresa a O Carballiño el domingo 22 de febrero de 2026 para celebrar su 31ª edición.Este evento tradicional combina gastronomía local\, música y diversión\, convirtiéndose en una de las citas más esperadas del Entroido gallego. \nEn esta edición participan alrededor de una veintena de locales\, incluyendo Derby\, Esclavo\, Mesón O Noso Lar\, Pulpería Carral\, O Pituxo\, A Maquia\, Pulpería O Carballiño\, Las Cubanitas\, Fuchela\, Parrillada San Andrés\, Asador Veracruz\, Soldado\, Parrillada Os Amigos\, Patio Bar Ernesto\, O Pendello\, Casa María\, Pulpería Ruzo\, Mesón O Arrabaldo y Os Álamos.Los menús especiales tendrán precios entre 20 y 40 euros por persona\, y debido a la alta demanda\, se recomienda reservar con antelación. \n\nLugar: O CarballiñoFecha: 22 de febrero de 2026Hora: 12:00 horas \n\n🍽️ Gastronomía y animación\nDurante la jornada\, los locales participantes ofrecerán menús especiales y actividades gastronómicas para todos los asistentes.Además\, habrá animación musical y charangas por las calles\, creando un ambiente festivo y lleno de energía.Se invita al público a acudir disfrazado con su mejor ropa de Entroido\, potenciando la alegría y la tradición de la celebración. \n\n🎭 Tradición y diversión\nLa Fiesta de la Cachucha es un evento que combina gastronomía y cultura popular\, manteniendo viva la tradición del Entroido gallego.El evento permite disfrutar de buen comer\, música y comparsas\, convirtiéndose en una experiencia completa para toda la familia y visitantes.Cada local ofrece un ambiente único\, con propuestas culinarias y actividades pensadas para hacer de la jornada un día memorable. \n\n🌆 O Carballiño como epicentro del Entroido\nO Carballiño se consolida como uno de los lugares más emblemáticos para celebrar el Entroido en Galicia.La Fiesta de la Cachucha atrae a visitantes de toda la región\, ofreciendo gastronomía local\, diversión y tradición en un entorno acogedor y festivo. \nEn definitiva\, la XXXI Fiesta de la Cachucha de O Carballiño será una cita imprescindible para los amantes de la buena comida\, la música y la celebración del Entroido.Una jornada para saborear\, disfrutar y sumergirse en la tradición gallega de manera única.
URL:https://galicia.info/event/fiesta-xxxi-fiesta-de-la-cachucha-en-o-carballino/
CATEGORIES:EventosARibeiraSacra,EventosOurense
END:VEVENT
END:VCALENDAR