BEGIN:VCALENDAR
VERSION:2.0
PRODID:-//Galicia.info - ECPv6.15.20//NONSGML v1.0//EN
CALSCALE:GREGORIAN
METHOD:PUBLISH
X-WR-CALNAME:Galicia.info
X-ORIGINAL-URL:https://galicia.info
X-WR-CALDESC:Eventos para Galicia.info
REFRESH-INTERVAL;VALUE=DURATION:PT1H
X-Robots-Tag:noindex
X-PUBLISHED-TTL:PT1H
BEGIN:VTIMEZONE
TZID:Europe/Paris
BEGIN:DAYLIGHT
TZOFFSETFROM:+0100
TZOFFSETTO:+0200
TZNAME:CEST
DTSTART:20250330T010000
END:DAYLIGHT
BEGIN:STANDARD
TZOFFSETFROM:+0200
TZOFFSETTO:+0100
TZNAME:CET
DTSTART:20251026T010000
END:STANDARD
BEGIN:DAYLIGHT
TZOFFSETFROM:+0100
TZOFFSETTO:+0200
TZNAME:CEST
DTSTART:20260329T010000
END:DAYLIGHT
BEGIN:STANDARD
TZOFFSETFROM:+0200
TZOFFSETTO:+0100
TZNAME:CET
DTSTART:20261025T010000
END:STANDARD
BEGIN:DAYLIGHT
TZOFFSETFROM:+0100
TZOFFSETTO:+0200
TZNAME:CEST
DTSTART:20270328T010000
END:DAYLIGHT
BEGIN:STANDARD
TZOFFSETFROM:+0200
TZOFFSETTO:+0100
TZNAME:CET
DTSTART:20271031T010000
END:STANDARD
END:VTIMEZONE
BEGIN:VEVENT
DTSTART;TZID=Europe/Paris:20260305T173000
DTEND;TZID=Europe/Paris:20260605T203000
DTSTAMP:20260424T024112
CREATED:20260317T091634Z
LAST-MODIFIED:20260317T091634Z
UID:15860-1772731800-1780691400@galicia.info
SUMMARY:Exposición “DOMÉSTICA” en Ourense 2026
DESCRIPTION:Exposición “DOMÉSTICA” en Ourense 2026\nLa exposición “DOMÉSTICA” en Ourense 2026 se podrá visitar del 5 de marzo al 4 de junio de 2026 en la Sala de Exposicións Afundación\, ofreciendo una mirada contemporánea sobre el concepto de hogar y la vida cotidiana a través del arte. \nLa muestra reunirá obras de artistas contemporáneos que reflexionan sobre la intimidad\, la memoria y la relación entre el espacio doméstico y la experiencia personal\, convirtiendo la exposición “DOMÉSTICA” en Ourense 2026 en una de las citas culturales más destacadas del año. \n Una propuesta artística innovadora\n“DOMÉSTICA” combina distintas disciplinas como pintura\, fotografía\, instalación y arte multimedia para explorar cómo los espacios domésticos influyen en nuestra vida emocional y social. \nLa exposición permitirá a los visitantes: \n\n\nObservar diferentes interpretaciones del hogar \n\n\nInteractuar con instalaciones inmersivas \n\n\nParticipar en actividades culturales complementarias \n\n\nEste enfoque ofrece una experiencia tanto visual como conceptual\, acercando al público a nuevas formas de entender el arte contemporáneo. \n📍 Lugar\nSala de Exposicións Afundación\, Ourense \n📅 Fechas\nDel 5 de marzo al 4 de junio de 2026 \n🕒 Horario habitual (orientativo)\n\n\nLunes a sábado: 17:30 – 20:30 h \n\n\nDomingos y festivos: 11:00 – 14:00 h \n\n\n(El horario puede variar según programación oficial) \nEntradas\nEl acceso a la exposición “DOMÉSTICA” en Ourense 2026 será gratuito\, como es habitual en muchas muestras de Afundación. \n🕘 Tiempo recomendado de visita: entre 45 minutos y 1 hora \nEl recorrido permite disfrutar con calma de las obras y participar en experiencias interactivas. \n “DOMÉSTICA” y su impacto cultural\nLa exposición “DOMÉSTICA” en Ourense 2026 busca generar diálogo entre artistas y visitantes\, invitando a reflexionar sobre el entorno doméstico y su influencia en la identidad personal y colectiva. \nDurante sus tres meses de duración\, se espera que sea una de las principales citas culturales en Ourense\, atrayendo tanto a aficionados al arte como a público general interesado en propuestas innovadoras.
URL:https://galicia.info/event/exposicion-domestica-en-ourense-2026/
CATEGORIES:EventosOurense
ATTACH;FMTTYPE=image/png:https://galicia.info/wp-content/uploads/2026/03/domestica-web-afundacion__narrow.png
END:VEVENT
BEGIN:VEVENT
DTSTART;TZID=Europe/Paris:20260409T110000
DTEND;TZID=Europe/Paris:20260507T200000
DTSTAMP:20260424T024112
CREATED:20260408T081808Z
LAST-MODIFIED:20260408T081824Z
UID:16303-1775732400-1778184000@galicia.info
SUMMARY:Nicolás Muller en Galicia – Visita comentada | Sede Afundación Ferrol
DESCRIPTION:Nicolás Muller en Galicia: visita comentada en Ferrol\nFecha: del 9 de abril al 7 de mayo de 2026Lugar: Sede Afundación Ferrol\, FerrolEntrada: gratuita \n\nDescubre la obra de Nicolás Muller en Galicia\nLa exposición Nicolás Muller en Galicia llega a Ferrol con una visita comentada que permitirá al público acercarse al trabajo de uno de los fotógrafos más importantes del siglo XX. La muestra reúne una selección de sus fotografías más icónicas\, incluyendo retratos\, paisajes urbanos y escenas de la vida cotidiana. Cada imagen refleja la mirada única de Muller sobre Galicia y su gente. \nDurante la visita comentada\, los asistentes conocerán detalles sobre las técnicas fotográficas que empleó Muller. Además\, se explicará el contexto histórico y cultural de cada obra. La actividad es ideal para estudiantes\, amantes de la fotografía y cualquier persona interesada en la cultura gallega. \n\nInformación práctica y acceso\nLa exposición estará abierta desde el 9 de abril hasta el 7 de mayo de 2026. Las visitas comentadas se realizarán según horarios programados por la Sede Afundación Ferrol. La entrada es completamente gratuita\, pero se recomienda llegar con antelación para asegurar plaza\, especialmente en los días de mayor afluencia. \nLa Sede Afundación Ferrol se encuentra en el centro de la ciudad\, con fácil acceso en transporte público y aparcamiento cercano. Durante la visita\, se permite la toma de notas y fotografías sin flash\, pero no está permitido el uso de trípodes o grabación profesional sin autorización. \n\nPor qué no perderte esta exposición\nNicolás Muller en Galicia: visita comentada ofrece una oportunidad única de acercarse al legado de un fotógrafo que documentó Galicia con sensibilidad y maestría. Cada visita es un viaje a través del tiempo y del arte\, mostrando la vida y la identidad de Galicia en el siglo XX. No solo es una exposición de fotografía; es una experiencia educativa\, cultural y visual.
URL:https://galicia.info/event/nicolas-muller-en-galicia-visita-comentada-sede-afundacion-ferrol/
CATEGORIES:EventosRiasAltas
ATTACH;FMTTYPE=image/avif:https://galicia.info/wp-content/uploads/2026/04/public-36.avif
END:VEVENT
BEGIN:VEVENT
DTSTART;TZID=Europe/Paris:20260411T120000
DTEND;TZID=Europe/Paris:20260512T233000
DTSTAMP:20260424T024112
CREATED:20260401T091151Z
LAST-MODIFIED:20260401T093732Z
UID:16057-1775908800-1778628600@galicia.info
SUMMARY: Festival de Saiáns Picnic Sesións Vigo 11 y 12 de abril 2026: música\, arte y comunidad
DESCRIPTION: Festival de Saiáns Picnic Sesións Vigo 11 y 12 de abril 2026: música\, arte y comunidad\nEl Festival de Saiáns Picnic Sesións Vigo 11 y 12 de abril 2026 es una cita cultural y musical al aire libre en Vigo. Este evento de dos días combina música en directo\, actividades comunitarias\, arte y mercado contemporáneo en la zona verde de Radio Costeira\, en Saiáns. \nOrganizado por la Asociación Cultural Lideiras\, el festival forma parte del proyecto sociocultural PICNIC sesións\, que busca dinamizar Saiáns con actividades que conectan naturaleza\, cultura y comunidad. \n\nPrograma del Festival de Saiáns Picnic Sesións Vigo 11 y 12 de abril 2026\nEl Festival de Saiáns se celebra durante dos jornadas de primavera con una agenda diversa: \n\nSábado 11 de abril de 2026 – Música en directo con varias actuaciones artísticas\, ambiente familiar y food trucks.\nDomingo 12 de abril de 2026 – Música\, actividades creativas\, mercado contemporáneo y más propuestas al aire libre.\n\nAunque la programación musical final puede completarse más adelante\, este evento habitual suele contar con bandas locales y sesiones musicales que animan toda la tarde. \nAdemás de los conciertos\, el festival está lleno de actividades: \n\nMercado Contemporáneo con artesanía y productos locales\nTalleres creativos y artísticos para todas las edades\nCertamen de pintura rápida al aire libre\nGastronomía y food trucks\nJuegos y espacios de ocio para familias\n\nEl ambiente del festival se caracteriza por un entorno natural excepcional\, ideal para pasar el día entre música\, picnic y comunidad. \n\n Música al aire libre y ambiente para todos\nLa música en el Festival de Saiáns Picnic Sesións Vigo 11 y 12 de abril 2026 no solo incluye conciertos\, sino también sesiones musicales abiertas\, artistas locales emergentes y propuestas para todos los gustos. El programa suele comenzar alrededor de mediodía y se extiende hasta la tarde\, aprovechando la luz natural y el entorno verde de Saiáns. \nEl festival tiene fama de ser accesible y gratuito\, con actividades pensadas tanto para jóvenes como para familias completas.
URL:https://galicia.info/event/travole-vigo-19-de-abril-2026-circo-magia-y-acrobacias-para-toda-la-familia/
CATEGORIES:EventosRiasBaixas,EventosVigo
ATTACH;FMTTYPE=image/png:https://galicia.info/wp-content/uploads/2026/04/2026-03-15-redes-v2-02_compress.png
END:VEVENT
BEGIN:VEVENT
DTSTART;TZID=Europe/Paris:20260412T203000
DTEND;TZID=Europe/Paris:20260426T220000
DTSTAMP:20260424T024112
CREATED:20260408T073132Z
LAST-MODIFIED:20260408T073400Z
UID:16288-1776025800-1777240800@galicia.info
SUMMARY:A propósito de William en Santiago 2026 – Teatro en Salón Teatro
DESCRIPTION:A propósito de William en Santiago 2026 – Teatro en Salón Teatro\nFechas: Del 29 de marzo al 26 de abril de 2026Hora: 20:30 h (funciones: 12\, 19 y 26 de abril)Duración: Aproximadamente 90 minutos (fin estimado sobre las 22:00 h)Lugar: Salón Teatro\, Santiago de CompostelaEntradas: Desde 11\,00 € \n\nSobre “A propósito de William” en Santiago de Compostela\nEl A propósito de William Santiago 2026 teatro llega al Salón Teatro como una propuesta escénica que revisita la figura de William Shakespeare desde una mirada contemporánea. Esta obra ofrece una reinterpretación del universo del dramaturgo inglés\, explorando sus textos\, personajes y conflictos desde una perspectiva actual que conecta con el público moderno. \nA lo largo de la representación\, el espectáculo juega con referencias teatrales\, literarias y culturales\, creando un diálogo entre el pasado y el presente. La obra invita a reflexionar sobre la vigencia de los temas universales tratados por Shakespeare\, como el amor\, el poder\, la ambición o la identidad\, demostrando que siguen plenamente vigentes en la sociedad actual. \n\nUn homenaje contemporáneo al teatro clásico\nUno de los grandes atractivos de A propósito de William Santiago 2026 teatro es su capacidad para acercar el teatro clásico a nuevos públicos. A través de una puesta en escena dinámica y accesible\, la obra combina elementos tradicionales con recursos modernos\, logrando una experiencia atractiva tanto para espectadores habituales como para quienes se acercan por primera vez al teatro. \nEl montaje destaca por su creatividad\, su ritmo y su capacidad para reinterpretar textos clásicos sin perder su esencia. La escenografía\, la interpretación y el uso del lenguaje escénico convierten cada función en una experiencia cultural enriquecedora. \n\nQué esperar de la obra\nLos asistentes podrán disfrutar de: \n\nUna reinterpretación moderna de la obra de William Shakespeare.\nUn montaje dinámico que mezcla tradición y contemporaneidad.\nInterpretaciones que conectan con el público actual.\nUna experiencia teatral accesible y reflexiva.\n\nEsta obra es ideal para amantes del teatro\, estudiantes o cualquier persona interesada en descubrir una nueva forma de entender los clásicos. \n\nEntradas y funciones\nLas entradas están disponibles desde 11\,00 €. La obra se representa en varias fechas entre el 29 de marzo y el 26 de abril de 2026\, siendo una de las funciones destacadas la del 12 de abril a las 20:30 h. \nSe recomienda consultar disponibilidad y adquirir entradas con antelación.
URL:https://galicia.info/event/16288/
CATEGORIES:EventosRiasAltas,EventosSantiagodeCompostela
ATTACH;FMTTYPE=image/avif:https://galicia.info/wp-content/uploads/2026/04/public-33.avif
END:VEVENT
BEGIN:VEVENT
DTSTART;TZID=Europe/Paris:20260424T110000
DTEND;TZID=Europe/Paris:20260426T213000
DTSTAMP:20260424T024112
CREATED:20260401T110218Z
LAST-MODIFIED:20260401T110218Z
UID:16087-1777028400-1777239000@galicia.info
SUMMARY:Galiexpo Motor Show Vigo 2026 | Feria del motor en IFEVI
DESCRIPTION:Galiexpo Motor Show Vigo 2026 | Feria del motor en IFEVI\nEl Galiexpo Motor Show 2026 se prepara para volver a Vigo del 24 al 26 de abril de 2026\, consolidándose como uno de los eventos más importantes del motor en el noroeste peninsular. La cita tendrá lugar en IFEVI (Instituto Ferial de Vigo)\, un espacio amplio y accesible donde se dan cita aficionados\, marcas\, expositores y público general para vivir una experiencia completa alrededor del mundo del automóvil\, la competición\, las exhibiciones y las últimas innovaciones del sector. \nDurante tres días\, Galiexpo se convierte en un punto de encuentro para apasionados de los coches\, las motos\, el tuning y la tecnología automotriz. Con más de 50 000 m² de exposición y más de 100 empresas participantes\, el evento ofrece desde vehículos clásicos y superdeportivos hasta novedades de competición\, performance\, 4×4\, caravaning\, motos y furgocampers. \nAdemás de la exposición estática\, Galiexpo Motor Show cuenta con espectáculos de drift\, exhibiciones en directo\, simuladores de conducción y actividades interactivas para todas las edades\, lo que lo convierte en un plan ideal tanto para entusiastas del motor como para familias. \nFecha\, lugar y horario \n\nEvento: Galiexpo Motor Show 2026\nFecha: 24\, 25 y 26 de abril de 2026\nLugar: IFEVI – Instituto Ferial de Vigo\, Av. do Aeroporto\, 772\, Vigo\nHorario aproximado:\n\n24 de abril: 11:00 – 20:30\n25 de abril: 11:00 – 21:00\n26 de abril: 11:00 – 20:30\n\n\n\nEntradas y actividades \nLas entradas para Galiexpo están disponibles tanto para la feria general como para actividades específicas dentro del evento. Además de la exposición principal de vehículos y accesorios\, se celebran concentraciones temáticas de coches clásicos\, hiperdeportivos y motos\, amplificando la experiencia para los asistentes. \nPor qué ir: \nGaliexpo Motor Show combina innovación\, entretenimiento y pasión por el motor en un entorno dinámico y familiar. Es una cita obligada para quienes quieren ver las últimas tendencias del sector automovilístico\, disfrutar de exhibiciones espectaculares y compartir la pasión por los vehículos en pleno corazón de Vigo.
URL:https://galicia.info/event/galiexpo-motor-show-vigo-2026-feria-del-motor-en-ifevi/
CATEGORIES:EventosRiasBaixas,EventosVigo
ATTACH;FMTTYPE=image/jpeg:https://galicia.info/wp-content/uploads/2026/04/657170039_18382406137094244_5787528166651951413_n.jpg
END:VEVENT
BEGIN:VEVENT
DTSTART;TZID=Europe/Paris:20260424T200000
DTEND;TZID=Europe/Paris:20260424T213000
DTSTAMP:20260424T024112
CREATED:20260408T112233Z
LAST-MODIFIED:20260408T112233Z
UID:16410-1777060800-1777066200@galicia.info
SUMMARY:Homenaje a Frank Sinatra en Ribeira
DESCRIPTION:Homenaje a Frank Sinatra en Ribeira\nEl 24 de abril de 2026\, el Auditorio Municipal de Ribeira acoge un elegante concierto: el homenaje a Frank Sinatra interpretado por el reconocido barítono gallego Borja Quiza. La actuación comenzará a las 20:00 horas y ofrecerá una velada única para los amantes de la música clásica y el jazz. \nEste espectáculo propone un viaje musical por algunos de los temas más emblemáticos del siglo XX. Además\, combina calidad interpretativa y cercanía con el público. \nUn recorrido por los grandes clásicos\nDurante el concierto\, Borja Quiza estará acompañado por un trío de músicos excepcionales. Juntos interpretarán un repertorio basado en las melodías más populares americanas\, muchas de ellas convertidas en estándares de jazz. \nEl espectáculo rinde homenaje principalmente a Frank Sinatra\, aunque también incluye canciones popularizadas por artistas como Billie Holiday\, Ella Fitzgerald o Bing Crosby. Por tanto\, el público podrá disfrutar de una selección musical variada y llena de historia. \nAsimismo\, el repertorio incluye composiciones de autores imprescindibles como Cole Porter\, George Gershwin\, Richard Rodgers o Van Heusen. Estas piezas destacan por su elegancia\, su riqueza melódica y su capacidad para emocionar. \nLa interpretación de Borja Quiza\nBorja Quiza es uno de los cantantes gallegos más destacados en el ámbito lírico. Sin embargo\, en este concierto muestra una faceta diferente\, más cercana al jazz y a la música popular. \nSu voz\, técnica y presencia escénica permiten reinterpretar estos clásicos con personalidad propia. Además\, logra transmitir emoción en cada canción\, conectando de forma directa con el público. \nGracias a esta combinación\, el concierto se convierte en una experiencia sofisticada y accesible al mismo tiempo. \nInformación del evento\n\nFecha: 24 abril 2026\nHora: 20:00\nDuración estimada: 90 minutos (fin aproximado sobre las 21:30 h)\nLugar: Auditorio Municipal de Ribeira\, Avda. da Constitución\, 2\nPrecio desde: 27\,50 €\n\nNormas de acceso\n\nSe ruega puntualidad; no se permitirá el acceso una vez iniciado el espectáculo.\nNo se admiten cambios ni devoluciones\, salvo cancelación.\nNo está permitido comer\, beber\, grabar o hacer fotos.\nTodas las personas deben acceder con entrada.\n\nUna noche para los amantes de la buena música\nEn definitiva\, este homenaje a Frank Sinatra es una oportunidad perfecta para disfrutar de grandes clásicos en directo. La combinación de voz\, música y repertorio crea una atmósfera elegante y envolvente. \nSi te gusta el jazz y la música atemporal\, este concierto es una cita imprescindible. Prepárate para una noche llena de emoción\, estilo y grandes canciones.
URL:https://galicia.info/event/homenaje-a-frank-sinatra-en-ribeira/
CATEGORIES:EventosACoruña
ATTACH;FMTTYPE=image/avif:https://galicia.info/wp-content/uploads/2026/04/public-67.avif
END:VEVENT
BEGIN:VEVENT
DTSTART;TZID=Europe/Paris:20260424T200000
DTEND;TZID=Europe/Paris:20260424T230000
DTSTAMP:20260424T024112
CREATED:20260408T105540Z
LAST-MODIFIED:20260408T105540Z
UID:16393-1777060800-1777071600@galicia.info
SUMMARY:Mucho Ruido y Pocas Nueces – William Shakespeare
DESCRIPTION:El próximo 24 de abril de 2026\, el Ágora de A Coruña acogerá la comedia “Mucho Ruido y Pocas Nueces”\, una versión fresca y gamberra de William Shakespeare a cargo de Noite Bohemia. Con una duración aproximada de 110 minutos\, esta obra promete humor\, romance y música en directo\, ideal para todos los públicos que busquen entretenimiento de calidad. \nAmor\, engaños y mucha diversión\nEn esta versión\, el amor se convierte en un verdadero campo de batalla. La trama sigue a dos parejas principales: Hero y Claudio\, que viven un romance de cuento de hadas amenazado por la traición; y Beatriz y Benedicto\, enfrentados en una épica “guerra de sexos” con sarcasmo y pullas constantes. \nGracias a los engaños y artimañas de amigos y aliados\, el público se verá inmerso en una historia llena de giros inesperados\, donde los conflictos se mezclan con la diversión y la emoción. La comedia explora la idea de que incluso las mayores discusiones pueden esconder verdades dulces y sentimientos profundos. \nLa propuesta de Noite Bohemia\nNoite Bohemia reinventa el clásico con una energía renovada. La música en directo acompaña cada escena\, subrayando la picardía de los diálogos y la frescura de la puesta en escena. Cada escena combina humor\, ingenio y ritmo\, haciendo de esta adaptación una experiencia vibrante\, interactiva y memorable. \nInformación del evento\n\nFecha: 24 abril 2026\nHora: 20:00\nLugar: Ágora\, Av. Gramela\, 17\, A Coruña\, 15010\nDuración: 110 minutos\nEdad recomendada: Todos los públicos\n\nNormas de acceso\n\nEntrada obligatoria para todos los asistentes.\nNo se permiten cambios ni devoluciones.\nProhibido consumir alimentos o bebidas\, salvo agua.\nNo se permite grabar ni fotografiar sin autorización.\nSe ruega puntualidad; no se permitirá acceso una vez iniciado el espectáculo.\n\nEsta obra es una oportunidad única para disfrutar de Shakespeare en versión moderna\, donde la música\, la comedia y el ingenio se fusionan para crear un espectáculo inolvidable en A Coruña
URL:https://galicia.info/event/mucho-ruido-y-pocas-nueces-william-shakespeare/
CATEGORIES:EventosACoruña
ATTACH;FMTTYPE=image/avif:https://galicia.info/wp-content/uploads/2026/04/public-62.avif
END:VEVENT
BEGIN:VEVENT
DTSTART;TZID=Europe/Paris:20260424T203000
DTEND;TZID=Europe/Paris:20260424T230000
DTSTAMP:20260424T024112
CREATED:20260401T071711Z
LAST-MODIFIED:20260401T073405Z
UID:16018-1777062600-1777071600@galicia.info
SUMMARY:Concierto de El Arrebato en Vigo
DESCRIPTION:Concierto de El Arrebato en Vigo\nEl 10 de abril de 2026\, El Arrebato actuará en Auditorio Municipal do Concello de Vigo. \nSe trata de un concierto único que reúne a fans de toda Galicia. El artista presentará sus grandes éxitos y su nuevo repertorio. \nCon su estilo inconfundible\, mezcla pop\, rumba y canciones emotivas que conectan con el público. Por ello\, su presencia en Vigo es uno de los eventos destacados del mes de abril.0.Fecha y ubicación del concierto \nInformación clave del evento: \n\nEvento: Concierto de El Arrebato\nFecha: 10 de abril de 2026\nLugar: Auditorio Municipal do Concello de Vigo\nCiudad: Vigo\n\nEl auditorio es un espacio con buena acústica y capacidad para un público amplio. Además\, garantiza una experiencia cómoda y segura para todos los asistentes. \n\nQué esperar del concierto\nEl Arrebato es conocido por su energía en vivo. Durante el concierto: \n\nInterpretará sus grandes éxitos\nPresentará temas de su último álbum\nHabrá momentos de interacción con el público\n\nEl espectáculo combina música\, emoción y ambiente cercano. Así\, cada asistente vive una experiencia memorable. \n\n Horario y recomendaciones\nEl concierto tiene un horario aproximado: \n\n20:30 — Apertura de puertas\n21:00 — Inicio del espectáculo\n23:00 — Final previsto\n\nSe recomienda llegar con antelación para ocupar buen asiento y disfrutar de toda la actuación. \nAdemás\, el Auditorio Municipal cuenta con servicios completos de accesibilidad y comodidad. \n\nEntradas\nLas entradas estarán disponibles en la página oficial del auditorio y plataformas autorizadas. \nSe recomienda comprarlas con antelación\, ya que este concierto especial puede agotarse rápidamente.
URL:https://galicia.info/event/concierto-de-el-arrebato-en-vigo/
CATEGORIES:EventosRiasBaixas,EventosVigo
ATTACH;FMTTYPE=image/avif:https://galicia.info/wp-content/uploads/2026/04/public-19.avif
END:VEVENT
END:VCALENDAR